BEGIN:VCALENDAR
VERSION:2.0
PRODID:-//ChamberMaster//Event Calendar 2.0//EN
METHOD:PUBLISH
X-PUBLISHED-TTL:P3D
REFRESH-INTERVAL:P3D
CALSCALE:GREGORIAN
BEGIN:VEVENT
DTSTART:20081101T130000Z
DTEND:20081101T190000Z
X-MICROSOFT-CDO-ALLDAYEVENT:FALSE
SUMMARY:11th Annual Hollyday Craft Bazaar
DESCRIPTION:70+ Exhibitors\nHandmade Items Only.\nRaffle\, Cafe\, & Door Prizes\nNo Strollers Please.
X-ALT-DESC;FMTTYPE=text/html:70+ Exhibitors\nHandmade Items Only.\nRaffle\, Cafe\, & Door Prizes\nNo Strollers Please.
LOCATION:Church of the Resurrection-New Albany
UID:e.304.259
SEQUENCE:3
DTSTAMP:20260422T101157Z
URL:https://cm.newalbanychamber.com/events/details/11th-annual-hollyday-craft-bazaar-11-01-2008-259
END:VEVENT

END:VCALENDAR
