BEGIN:VCALENDAR
VERSION:2.0
PRODID:-//ChamberMaster//Event Calendar 2.0//EN
METHOD:PUBLISH
X-PUBLISHED-TTL:P3D
REFRESH-INTERVAL:P3D
CALSCALE:GREGORIAN
BEGIN:VEVENT
DTSTART;VALUE=DATE:20090514
DTEND;VALUE=DATE:20090515
TRANSP:TRANSPARENT
X-MICROSOFT-CDO-ALLDAYEVENT:TRUE
SUMMARY:2009 TechColumbus Innovation Summit
DESCRIPTION:The 2009 TechColumbus Innovation Summit is set for May 14 at the Columbus Renaissance downtown.  It?s the region?s premier innovation leadership conference created by C-level executives for C-level executives.  The keynote speakers are impressive ? Terry Jones\, Founder of Travelocity.com\, and Rita McGrath\, strategy and innovation faculty expert at Columbia Business School.  Check out the website ? www.techcolumbusinnovationsummit.org.\n\nA full-day conference with a mix of keynotes and breakout sessions aimed to open your mind and provide actionable ideas\, the Summit is designed for CEOs\, presidents\, and senior executives in general management\, strategy\, technology and marketing.  Bring many from your company to take advantage of multiple attendee discounts. Early bird pricing is available if you register before March 31st.\n\nSponsorship opportunities are still available. \n\nDon?t miss this very targeted executive leadership event.  Register online at www.techcolumbusinnovationsummit.org.  If you have any questions\, please call Diane van Deusen at 614-484-5020.
X-ALT-DESC;FMTTYPE=text/html:The 2009 TechColumbus Innovation Summit is set for May 14 at the Columbus Renaissance downtown.  It?s the region?s premier innovation leadership conference created by C-level executives for C-level executives.  The keynote speakers are impressive ? Terry Jones\, Founder of Travelocity.com\, and Rita McGrath\, strategy and innovation faculty expert at Columbia Business School.  Check out the website ? www.techcolumbusinnovationsummit.org.\n\nA full-day conference with a mix of keynotes and breakout sessions aimed to open your mind and provide actionable ideas\, the Summit is designed for CEOs\, presidents\, and senior executives in general management\, strategy\, technology and marketing.  Bring many from your company to take advantage of multiple attendee discounts. Early bird pricing is available if you register before March 31st.\n\nSponsorship opportunities are still available. \n\nDon?t miss this very targeted executive leadership event.  Register online at www.techcolumbusinnovationsummit.org.  If you have any questions\, please call Diane van Deusen at 614-484-5020. \n
LOCATION:Columbus Renaissance\, Columbus Ohio
UID:e.304.435
SEQUENCE:3
DTSTAMP:20260421T232401Z
URL:https://cm.newalbanychamber.com/events/details/2009-techcolumbus-innovation-summit-05-14-2009-435
END:VEVENT

END:VCALENDAR
