BEGIN:VCALENDAR
VERSION:2.0
PRODID:-//ChamberMaster//Event Calendar 2.0//EN
METHOD:PUBLISH
X-PUBLISHED-TTL:P3D
REFRESH-INTERVAL:P3D
CALSCALE:GREGORIAN
BEGIN:VEVENT
DTSTART;VALUE=DATE:20100514
DTEND;VALUE=DATE:20100515
TRANSP:TRANSPARENT
X-MICROSOFT-CDO-ALLDAYEVENT:TRUE
SUMMARY:2010 Government Day
DESCRIPTION:The Columbus Chamber of Commerce invites you to attend their annual 2010 Government Day! The event will be held on Friday\, May 14\, beginning at 9:00 am at the Columbus Chamber which is on 150 S. Front Street\, Suite 200\, Columbus\, 43215.Government Day provides an opportunity for business leaders to learn about important public policy issues as well as express the businessperson's point of view to officeholders and government officials. The event begins with a series of roundtable forums where experts\, officeholders and interested business leaders share perspectives on issues such as health care\, infrastructure\, building start-up companies and the impending state budget crisis. After participating in these conversations\, the attending business leaders come together at a lunch featuring insights from a political insider. The Columbus Chamber currently has Republican Party Chairman\, Kevin DeWine\, confirmed and possibly Democratic Party Chairman\, Chris Redfern\, to speak. To register click here.For more information call 614-225-6916.
X-ALT-DESC;FMTTYPE=text/html:<div>The Columbus Chamber of Commerce invites you to attend their annual 2010 Government Day!&nbsp\;The event will be held on Friday\, May 14\, beginning at 9:00 am at the Columbus Chamber which is on 150 S. Front Street\, Suite 200\, Columbus\, 43215.</div><div>Government Day provides an opportunity for business leaders to learn about important public policy issues as well as express the businessperson's point of view to officeholders and government officials. The event begins with a series of roundtable forums where experts\, officeholders and interested business leaders share perspectives on issues such as health care\, infrastructure\, building start-up companies and the impending state budget crisis. After participating in these conversations\, the attending business leaders come together at a lunch featuring insights from a political insider. The Columbus Chamber currently has Republican Party Chairman\, Kevin DeWine\, confirmed and possibly Democratic Party Chairman\, Chris Redfern\, to speak.</div><div>&nbsp\;</div><div>To register <a href="https://wcws.weblinkconnect.com/WC_eCommerce/EventReg/Event_Registration.aspx?EventID=383Z8I&amp\;lk=BX267G433F65983Q9I7G2C4P7O">click here.</a></div><div>For more information call 614-225-6916.</div>
LOCATION:150 S. Front StreetSuite 200Columbus\, Ohio 43215
UID:e.304.578
SEQUENCE:3
DTSTAMP:20260421T053247Z
URL:https://cm.newalbanychamber.com/events/details/2010-government-day-05-14-2010-578
END:VEVENT

END:VCALENDAR
