BEGIN:VCALENDAR
VERSION:2.0
PRODID:-//ChamberMaster//Event Calendar 2.0//EN
METHOD:PUBLISH
X-PUBLISHED-TTL:P3D
REFRESH-INTERVAL:P3D
CALSCALE:GREGORIAN
BEGIN:VEVENT
DTSTART:20101104T140000Z
DTEND:20101107T220000Z
X-MICROSOFT-CDO-ALLDAYEVENT:FALSE
SUMMARY:24th Annual Holiday Celebration
DESCRIPTION:24th Annual Holiday Celebration at Prairie House\n\n\n\nThursday\, 4-8 p.m.\n\nFriday 4-8 p.m.\n\nSaturday 10 a.m.-5 p.m.\n\nSunday 10 a.m.-5 p.m.\n\n\n\nClosed oct. 24th - Nov. 3rd\n\nDec. 24th - Jan. 5th.
X-ALT-DESC;FMTTYPE=text/html:<strong><span style="font-size: 14px">24th Annual Holiday Celebration at Prairie House</span></strong><br />\n<br />\nThursday\, 4-8 p.m.<br />\nFriday 4-8 p.m.<br />\nSaturday 10 a.m.-5 p.m.<br />\nSunday 10 a.m.-5 p.m.<br />\n<br />\nClosed oct. 24th - Nov. 3rd<br />\nDec. 24th - Jan. 5th.
LOCATION:Prairie House 6060 Dublin-Granville Rd. New Albany\, Ohio 614-855-2442
UID:e.304.722
SEQUENCE:3
DTSTAMP:20260420T193358Z
URL:https://cm.newalbanychamber.com/events/details/24th-annual-holiday-celebration-11-04-2010-722
END:VEVENT

END:VCALENDAR
