BEGIN:VCALENDAR
VERSION:2.0
PRODID:-//ChamberMaster//Event Calendar 2.0//EN
METHOD:PUBLISH
X-PUBLISHED-TTL:P3D
REFRESH-INTERVAL:P3D
CALSCALE:GREGORIAN
BEGIN:VEVENT
DTSTART:20110509T233000Z
DTEND:20110510T010000Z
X-MICROSOFT-CDO-ALLDAYEVENT:FALSE
SUMMARY:3rd Annual "Communities in Concert"
DESCRIPTION:The New Albany Community Band welcomes the Grove City (OH) Community Winds to New Albany for a joint concert. Admission is FREE!
X-ALT-DESC;FMTTYPE=text/html:The New Albany Community Band welcomes the Grove City (OH) Community Winds to New Albany for a joint concert. Admission is FREE!
LOCATION:Jeanna B. McCoy Community Center for the Performing Arts
UID:e.304.792
SEQUENCE:3
DTSTAMP:20260420T101424Z
URL:https://cm.newalbanychamber.com/events/details/3rd-annual-communities-in-concert-05-09-2011-792
END:VEVENT

END:VCALENDAR
