BEGIN:VCALENDAR
VERSION:2.0
PRODID:-//ChamberMaster//Event Calendar 2.0//EN
METHOD:PUBLISH
X-PUBLISHED-TTL:P3D
REFRESH-INTERVAL:P3D
CALSCALE:GREGORIAN
BEGIN:VEVENT
DTSTART:20080617T230000Z
DTEND:20080618T020000Z
X-MICROSOFT-CDO-ALLDAYEVENT:FALSE
SUMMARY:5th Annual Run for the Rainbow
DESCRIPTION:An evening of fun for the entire family.  The 5th Annual Circle of Friends 5K Run for the Rainbow and Kid's Fun Run will start at the New Albany Market Square and wind through the beautiful streets of New Albany on a certified course.  All monies raised benefit the Center for Childhood Cancer at Nationwide Children's Research Institute.  Please save the date!  More information coming soon!  Please contact Rachel Whisner at Nationwide Children's Hospital Foundation at (614) 355-0820 or Rachel.Whisner@NationwideChildrens.org for more information.
X-ALT-DESC;FMTTYPE=text/html:An evening of fun for the entire family.  The 5th Annual Circle of Friends 5K Run for the Rainbow and Kid's Fun Run will start at the New Albany Market Square and wind through the beautiful streets of New Albany on a certified course.  All monies raised benefit the Center for Childhood Cancer at Nationwide Children's Research Institute.  Please save the date!  More information coming soon!  Please contact Rachel Whisner at Nationwide Children's Hospital Foundation at (614) 355-0820 or Rachel.Whisner@NationwideChildrens.org for more information.
LOCATION:New Albany Market Square
UID:e.304.172
SEQUENCE:3
DTSTAMP:20260422T161213Z
URL:https://cm.newalbanychamber.com/events/details/5th-annual-run-for-the-rainbow-06-17-2008-172
END:VEVENT

END:VCALENDAR
