BEGIN:VCALENDAR
VERSION:2.0
PRODID:-//ChamberMaster//Event Calendar 2.0//EN
METHOD:PUBLISH
X-PUBLISHED-TTL:P3D
REFRESH-INTERVAL:P3D
CALSCALE:GREGORIAN
BEGIN:VEVENT
DTSTART:20100505T223000Z
DTEND:20100506T000000Z
X-MICROSOFT-CDO-ALLDAYEVENT:FALSE
SUMMARY:5th Grade Choir & NAHS Jazz Band Concert
DESCRIPTION:
X-ALT-DESC;FMTTYPE=text/html:
LOCATION:McCoy Center for the Arts
UID:e.304.603
SEQUENCE:3
DTSTAMP:20260421T053606Z
URL:https://cm.newalbanychamber.com/events/details/5th-grade-choir-nahs-jazz-band-concert-05-05-2010-603
END:VEVENT

END:VCALENDAR
