BEGIN:VCALENDAR
VERSION:2.0
PRODID:-//ChamberMaster//Event Calendar 2.0//EN
METHOD:PUBLISH
X-PUBLISHED-TTL:P3D
REFRESH-INTERVAL:P3D
CALSCALE:GREGORIAN
BEGIN:VEVENT
DTSTART;VALUE=DATE:20090106
DTEND;VALUE=DATE:20090107
TRANSP:TRANSPARENT
X-MICROSOFT-CDO-ALLDAYEVENT:TRUE
SUMMARY:6:30 Village Council Meeting
DESCRIPTION:
X-ALT-DESC;FMTTYPE=text/html:
LOCATION:
UID:e.304.269
SEQUENCE:3
DTSTAMP:20260422T053249Z
URL:https://cm.newalbanychamber.com/events/details/6-30-village-council-meeting-01-06-2009-269
END:VEVENT

END:VCALENDAR
