BEGIN:VCALENDAR
VERSION:2.0
PRODID:-//ChamberMaster//Event Calendar 2.0//EN
METHOD:PUBLISH
X-PUBLISHED-TTL:P3D
REFRESH-INTERVAL:P3D
CALSCALE:GREGORIAN
BEGIN:VEVENT
DTSTART:20100511T220000Z
DTEND:20100511T223000Z
X-MICROSOFT-CDO-ALLDAYEVENT:FALSE
SUMMARY:6th Grade Band Concert
DESCRIPTION:
X-ALT-DESC;FMTTYPE=text/html:
LOCATION:McCoy Center for the Arts
UID:e.304.594
SEQUENCE:3
DTSTAMP:20260421T053309Z
URL:https://cm.newalbanychamber.com/events/details/6th-grade-band-concert-05-11-2010-594
END:VEVENT

END:VCALENDAR
