BEGIN:VCALENDAR
VERSION:2.0
PRODID:-//ChamberMaster//Event Calendar 2.0//EN
METHOD:PUBLISH
X-PUBLISHED-TTL:P3D
REFRESH-INTERVAL:P3D
CALSCALE:GREGORIAN
BEGIN:VEVENT
DTSTART:20100603T230000Z
DTEND:20100604T000000Z
X-MICROSOFT-CDO-ALLDAYEVENT:FALSE
SUMMARY:7th/8th Grade Choir Pops Concert
DESCRIPTION:
X-ALT-DESC;FMTTYPE=text/html:
LOCATION:McCoy Center for the Arts
UID:e.304.601
SEQUENCE:3
DTSTAMP:20260421T035341Z
URL:https://cm.newalbanychamber.com/events/details/7th-8th-grade-choir-pops-concert-06-03-2010-601
END:VEVENT

END:VCALENDAR
