BEGIN:VCALENDAR
VERSION:2.0
PRODID:-//ChamberMaster//Event Calendar 2.0//EN
METHOD:PUBLISH
X-PUBLISHED-TTL:P3D
REFRESH-INTERVAL:P3D
CALSCALE:GREGORIAN
BEGIN:VEVENT
DTSTART:20100316T230000Z
DTEND:20100317T003000Z
X-MICROSOFT-CDO-ALLDAYEVENT:FALSE
SUMMARY:7th Grade/8th Grade Band & MS Jazz Band Concert
DESCRIPTION:Concert featuring our middle school band students
X-ALT-DESC;FMTTYPE=text/html:Concert featuring our middle school band students
LOCATION:McCoy Center for the Arts
UID:e.304.580
SEQUENCE:3
DTSTAMP:20260421T085853Z
URL:https://cm.newalbanychamber.com/events/details/7th-grade-8th-grade-band-ms-jazz-band-concert-03-16-2010-580
END:VEVENT

END:VCALENDAR
