BEGIN:VCALENDAR
VERSION:2.0
PRODID:-//ChamberMaster//Event Calendar 2.0//EN
METHOD:PUBLISH
X-PUBLISHED-TTL:P3D
REFRESH-INTERVAL:P3D
CALSCALE:GREGORIAN
BEGIN:VEVENT
DTSTART:20100324T230000Z
DTEND:20100325T003000Z
X-MICROSOFT-CDO-ALLDAYEVENT:FALSE
SUMMARY:7th Grade Choir & Orchestra Concert
DESCRIPTION:Concert featuring the New Albany Middle School 7th grade choir and orchestra
X-ALT-DESC;FMTTYPE=text/html:Concert featuring the New Albany Middle School 7th grade choir and orchestra
LOCATION:McCoy Center for the Arts
UID:e.304.584
SEQUENCE:3
DTSTAMP:20260421T102445Z
URL:https://cm.newalbanychamber.com/events/details/7th-grade-choir-orchestra-concert-03-24-2010-584
END:VEVENT

END:VCALENDAR
