BEGIN:VCALENDAR
VERSION:2.0
PRODID:-//ChamberMaster//Event Calendar 2.0//EN
METHOD:PUBLISH
X-PUBLISHED-TTL:P3D
REFRESH-INTERVAL:P3D
CALSCALE:GREGORIAN
BEGIN:VEVENT
DTSTART:20100511T230000Z
DTEND:20100512T000000Z
X-MICROSOFT-CDO-ALLDAYEVENT:FALSE
SUMMARY:8th Grade Band & MS Jazz Band Concert
DESCRIPTION:
X-ALT-DESC;FMTTYPE=text/html:
LOCATION:McCoy Center for the Arts
UID:e.304.595
SEQUENCE:3
DTSTAMP:20260421T053545Z
URL:https://cm.newalbanychamber.com/events/details/8th-grade-band-ms-jazz-band-concert-05-11-2010-595
END:VEVENT

END:VCALENDAR
