BEGIN:VCALENDAR
VERSION:2.0
PRODID:-//ChamberMaster//Event Calendar 2.0//EN
METHOD:PUBLISH
X-PUBLISHED-TTL:P3D
REFRESH-INTERVAL:P3D
CALSCALE:GREGORIAN
BEGIN:VEVENT
DTSTART:20100318T230000Z
DTEND:20100319T003000Z
X-MICROSOFT-CDO-ALLDAYEVENT:FALSE
SUMMARY:8th Grade Choir & Orchestra Concert
DESCRIPTION:Concert featuring 8th Grade Choir & Orchestra students
X-ALT-DESC;FMTTYPE=text/html:Concert featuring 8th Grade Choir &amp\; Orchestra students
LOCATION:McCoy Center for the Arts
UID:e.304.581
SEQUENCE:3
DTSTAMP:20260421T085449Z
URL:https://cm.newalbanychamber.com/events/details/8th-grade-choir-orchestra-concert-03-18-2010-581
END:VEVENT

END:VCALENDAR
