BEGIN:VCALENDAR
VERSION:2.0
PRODID:-//ChamberMaster//Event Calendar 2.0//EN
METHOD:PUBLISH
X-PUBLISHED-TTL:P3D
REFRESH-INTERVAL:P3D
CALSCALE:GREGORIAN
BEGIN:VEVENT
DTSTART;VALUE=DATE:20080913
DTEND;VALUE=DATE:20080914
TRANSP:TRANSPARENT
X-MICROSOFT-CDO-ALLDAYEVENT:TRUE
SUMMARY:A&F Challenge 2008
DESCRIPTION:Abercrombie & Fitch Challenge is on Saturday\, September 13\, 2008 in New Albany at 10am. Registration begins at 7:30am.\n\nOnline Registration must be completed by September 5th.\n\n \n\nTo register online go to http://premierraces.com/Races/AF_Challenge.html
X-ALT-DESC;FMTTYPE=text/html:<div>Abercrombie &amp\; Fitch Challenge is on Saturday\, September 13\, 2008 in New Albany at 10am. Registration begins at 7:30am.</div>\n\n<div>Online Registration must be completed by September 5th.</div>\n\n<div>&nbsp\;</div>\n\n<div>To register online go to <a href="http://premierraces.com/Races/AF_Challenge.html">http://premierraces.com/Races/AF_Challenge.html</a></div>\n
LOCATION:
UID:e.304.256
SEQUENCE:3
DTSTAMP:20260422T114532Z
URL:https://cm.newalbanychamber.com/events/details/a-f-challenge-2008-256
END:VEVENT

END:VCALENDAR
