BEGIN:VCALENDAR
VERSION:2.0
PRODID:-//ChamberMaster//Event Calendar 2.0//EN
METHOD:PUBLISH
X-PUBLISHED-TTL:P3D
REFRESH-INTERVAL:P3D
CALSCALE:GREGORIAN
BEGIN:VEVENT
DTSTART:20100909T213000Z
DTEND:20100910T023000Z
X-MICROSOFT-CDO-ALLDAYEVENT:FALSE
SUMMARY:A&F Challenge 2010
DESCRIPTION:A & F Challenge 2010\n\nThursday\, Sept. 9\, 2010\n\n5K - 32K Bike Tour\n\n\n\nOn Thursday\, September 9\, Abercrombie & Fitch will host the 9th Annual A&F Challenge at our campus in New Albany.  The event is an opportunity for A&F associates\, friends and family to come together\, have fun and build a better future for our communities.  Since the A&F Challenge first began in 2001\, we have raised over $8.5 million and all funds raised this year will be donated to The Ohio State University Medical Center's Program for Health.  This is an umbrella partnership with both The Ohio State University Medical Center and the James Cancer Hospital and Solove Research Institute and will focus on women's cancers as well as the prevention\, diagnosis and treatment of inflammatory bowel disease. The A&F Challenge is a premier event set on our beautiful campus in New Albany and provides participants with a unique and one of a kind experience.   We hope you can join us in this great cause!  Pre-Register by August 25th
X-ALT-DESC;FMTTYPE=text/html:<div><font size="2">A &amp\; F Challenge 2010</font><br />\n<font face="TradeGothic" size="2">Thursday\, Sept. 9\, 2010</font><br />\n<font face="TradeGothic" size="2">5K - 32K Bike Tour</font><br />\n<br />\n<font face="TradeGothic" size="2">On Thursday\, September 9\, Abercrombie &amp\; Fitch will host the 9th Annual A&amp\;F Challenge at our campus in New Albany. &nbsp\;The event is an opportunity for A&amp\;F associates\, friends and family to come together\, have fun and build a better future for our communities. &nbsp\;Since the A&amp\;F Challenge first began in 2001\, we have raised over $8.5 million and all funds raised this year will be donated to The Ohio State University Medical Center&#39\;s Program for Health. &nbsp\;This is an umbrella partnership with both The Ohio State University Medical Center and the James Cancer Hospital and Solove Research Institute and will focus on women&#39\;s cancers as well as the prevention\, diagnosis and treatment of inflammatory bowel disease. The A&amp\;F Challenge is a premier event set on our beautiful campus in New Albany and provides participants with a unique and one of a kind experience. &nbsp\; We hope you can join us in this great cause!</font><font face="Times New Roman" size="3"> &nbsp\;</font><font face="TradeGothic" size="2">Pre-Register by August 25th</font></div>\n
LOCATION:Abercrombie & Fitch Campus 6301 Fitch Path New Albany\, Ohio Event Directions: Exit 161 at US RT 62 North Take US RT 62 to Central College Rd. Turn right Cyclists will be parking at a separate location\, please follow signs carefully.
UID:e.304.686
SEQUENCE:3
DTSTAMP:20260420T225043Z
URL:https://cm.newalbanychamber.com/events/details/a-f-challenge-2010-686
END:VEVENT

END:VCALENDAR
