BEGIN:VCALENDAR
VERSION:2.0
PRODID:-//ChamberMaster//Event Calendar 2.0//EN
METHOD:PUBLISH
X-PUBLISHED-TTL:P3D
REFRESH-INTERVAL:P3D
CALSCALE:GREGORIAN
BEGIN:VEVENT
DTSTART:20091025T130000Z
DTEND:20091025T183000Z
X-MICROSOFT-CDO-ALLDAYEVENT:FALSE
SUMMARY:A Red Hot Chili Cook-Off and Golf Outing
DESCRIPTION:A chili cook-off and golf outing presented by the Athletic Boosters of New Albany High School.  All proceeds benefit the New Albany High School Athletic Facility Improvement Fund.
X-ALT-DESC;FMTTYPE=text/html:A chili cook-off and golf outing presented by the Athletic Boosters of New Albany High School.  All proceeds benefit the New Albany High School Athletic Facility Improvement Fund.  \n\n\n
LOCATION:(Tartan) East Golf Club 6140 Babbitt Road New Albany\, OH 43054
UID:e.304.516
SEQUENCE:3
DTSTAMP:20260421T171108Z
URL:https://cm.newalbanychamber.com/events/details/a-red-hot-chili-cook-off-and-golf-outing-10-25-2009-516
END:VEVENT

END:VCALENDAR
