BEGIN:VCALENDAR
VERSION:2.0
PRODID:-//ChamberMaster//Event Calendar 2.0//EN
METHOD:PUBLISH
X-PUBLISHED-TTL:P3D
REFRESH-INTERVAL:P3D
CALSCALE:GREGORIAN
BEGIN:VEVENT
DTSTART;VALUE=DATE:20090803
DTEND;VALUE=DATE:20090804
TRANSP:TRANSPARENT
X-MICROSOFT-CDO-ALLDAYEVENT:TRUE
SUMMARY:AAA Opens Their New Office
DESCRIPTION:AAA Ohio Auto Club opens their new office on Monday\, August 3rd. For more information visit www.aaa.com.
X-ALT-DESC;FMTTYPE=text/html:<div>AAA Ohio Auto Club opens their new office on Monday\, August 3rd. For more information visit <a href="http://www.aaa.com">www.aaa.com</a>.</div>
LOCATION:
UID:e.304.476
SEQUENCE:3
DTSTAMP:20260421T185940Z
URL:https://cm.newalbanychamber.com/events/details/aaa-opens-their-new-office-08-03-2009-476
END:VEVENT

END:VCALENDAR
