BEGIN:VCALENDAR
VERSION:2.0
PRODID:-//ChamberMaster//Event Calendar 2.0//EN
METHOD:PUBLISH
X-PUBLISHED-TTL:P3D
REFRESH-INTERVAL:P3D
CALSCALE:GREGORIAN
BEGIN:VEVENT
DTSTART:20100415T203000Z
DTEND:20100415T223000Z
X-MICROSOFT-CDO-ALLDAYEVENT:FALSE
SUMMARY:After Hours-Chamber Monthly Event
DESCRIPTION:Business After Hours-Chamber Monthly EventLandon's Corner ( formerly New Albany Grille)29 S. High St.New Albany
X-ALT-DESC;FMTTYPE=text/html:<div><span style="font-size: x-small"><strong>Business After Hours-Chamber Monthly Event</strong></span></div><div><span style="font-size: x-small"><strong>Landon's Corner ( formerly New Albany Grille)</strong></span></div><div><span style="font-size: x-small"><strong>29 S. High St.</strong></span></div><div><span style="font-size: x-small"><strong>New Albany</strong></span></div>
LOCATION:
UID:e.304.623
SEQUENCE:3
DTSTAMP:20260421T071830Z
URL:https://cm.newalbanychamber.com/events/details/after-hours-chamber-monthly-event-04-15-2010-623
END:VEVENT

END:VCALENDAR
