BEGIN:VCALENDAR
VERSION:2.0
PRODID:-//ChamberMaster//Event Calendar 2.0//EN
METHOD:PUBLISH
X-PUBLISHED-TTL:P3D
REFRESH-INTERVAL:P3D
CALSCALE:GREGORIAN
BEGIN:VEVENT
DTSTART;VALUE=DATE:20080510
DTEND;VALUE=DATE:20080511
TRANSP:TRANSPARENT
X-MICROSOFT-CDO-ALLDAYEVENT:TRUE
SUMMARY:Ahn Trio
DESCRIPTION:Graduates of Julliard\, the trio is redefining the art and architecture of chamber music as they blend surperb technique\, exquisite sound\, and contagious excitement.  The three sisters of the Ahn Trio are violinist Angella and twins pianist Lucia and cellist Maria.  They grab he intellect\, hearts\, and souls of all who hear them.  The vitality and musicianship of these remarkably gifted and very hip\, young musicians are continually drawing new audiences to classical music.
X-ALT-DESC;FMTTYPE=text/html:<div>Graduates of Julliard\, the trio is redefining the art and architecture of chamber music as they blend surperb technique\, exquisite sound\, and contagious excitement.&nbsp\; The three sisters of the Ahn Trio are violinist Angella and twins pianist Lucia and cellist Maria.&nbsp\; They grab he intellect\, hearts\, and souls of all who hear them.&nbsp\; The vitality and musicianship of these remarkably gifted and very hip\, young musicians are continually drawing new audiences to classical music.</div>
LOCATION:McCoy Center for the Arts100 W Granville StNew Albany\, OH 43054
UID:e.304.213
SEQUENCE:3
DTSTAMP:20260422T174628Z
URL:https://cm.newalbanychamber.com/events/details/ahn-trio-05-10-2008-213
END:VEVENT

END:VCALENDAR
