BEGIN:VCALENDAR
VERSION:2.0
PRODID:-//ChamberMaster//Event Calendar 2.0//EN
METHOD:PUBLISH
X-PUBLISHED-TTL:P3D
REFRESH-INTERVAL:P3D
CALSCALE:GREGORIAN
BEGIN:VEVENT
DTSTART;VALUE=DATE:20081010
DTEND;VALUE=DATE:20081011
TRANSP:TRANSPARENT
X-MICROSOFT-CDO-ALLDAYEVENT:TRUE
SUMMARY:Alumini Art Show
DESCRIPTION:The Jeanne B. McCoy Community Center for the Arts welcomes the community to the opening exhibition of the Alumini Art Show. It will be held on Friday\, October 10\, from 5pm until 7pm at the McCoy Center. Enjoy food and refreshments and view the artwork of New Albany High School graduates on your way to Homecoming Celebrations. Make a bid to buy art in a silent auction to be held during the opening exhibition. Bidding will close at 7pm on October 10. All proceeds will benefit a New Albany student who chooses to study art in college and will be awarded in Spring 2009. For more information visit www.mccoycenterforthearts.com.
X-ALT-DESC;FMTTYPE=text/html:<div>The Jeanne B. McCoy Community Center for the Arts welcomes the community to the opening exhibition of the Alumini Art Show. It will be held on Friday\, October 10\, from 5pm until 7pm at the McCoy Center. Enjoy food and refreshments and view the artwork of New Albany High School graduates on your way to Homecoming Celebrations. Make a bid to buy art in a silent auction to be held during the opening exhibition. Bidding will close at 7pm on October 10. All proceeds will benefit a New Albany student who chooses to study art in college and will be awarded in Spring 2009. For more information visit <a href="http://www.mccoycenterforthearts.com">www.mccoycenterforthearts.com</a>.</div>
LOCATION:
UID:e.304.323
SEQUENCE:3
DTSTAMP:20260422T101906Z
URL:https://cm.newalbanychamber.com/events/details/alumini-art-show-10-10-2008-323
END:VEVENT

END:VCALENDAR
