BEGIN:VCALENDAR
VERSION:2.0
PRODID:-//ChamberMaster//Event Calendar 2.0//EN
METHOD:PUBLISH
X-PUBLISHED-TTL:P3D
REFRESH-INTERVAL:P3D
CALSCALE:GREGORIAN
BEGIN:VEVENT
DTSTART;VALUE=DATE:20080226
DTEND;VALUE=DATE:20080227
TRANSP:TRANSPARENT
X-MICROSOFT-CDO-ALLDAYEVENT:TRUE
SUMMARY:Ambassador Task Force Meeting 2008
DESCRIPTION:Ambassador Task force meeting
X-ALT-DESC;FMTTYPE=text/html:<div>Ambassador Task force meeting</div>\n
LOCATION:Donato's Rt. 62 & Morse Road-Private Room
UID:e.304.177
SEQUENCE:3
DTSTAMP:20260424T085913Z
URL:https://cm.newalbanychamber.com/events/details/ambassador-task-force-meeting-2008-177
END:VEVENT

END:VCALENDAR
