BEGIN:VCALENDAR
VERSION:2.0
PRODID:-//ChamberMaster//Event Calendar 2.0//EN
METHOD:PUBLISH
X-PUBLISHED-TTL:P3D
REFRESH-INTERVAL:P3D
CALSCALE:GREGORIAN
BEGIN:VEVENT
DTSTART:20110429T123000Z
DTEND:20110429T141500Z
X-MICROSOFT-CDO-ALLDAYEVENT:FALSE
SUMMARY:American Diabetes Association's Annual Business Address to the Community
DESCRIPTION:"The Impact of Diabetes on Employee Populations and the Minority Workforce"\n\n\n\nThe Annual Business Address is an opportunity for the business community to learn how diabetes affects an organization?s bottom line\, productivity\, health and quality of life of employees. \n\nExperts from The Ohio State University Medical Center\, Lilly USA and Columbus State Community College will discuss the treatment and management of diabetes in the minority workforce\, the cost and prevalence of the disease in Central Ohio and the benefits of prevention-focused employee wellness programs. Employers will be provided with information to improve the health of their workforce\, which can eventually reduce costs to their company.
X-ALT-DESC;FMTTYPE=text/html:"The Impact of Diabetes on Employee Populations and the Minority Workforce"\n<br>\n<br>The Annual Business Address is an opportunity for the business community to learn how diabetes affects an organization?s bottom line\, productivity\, health and quality of life of employees. \n<br>Experts from The Ohio State University Medical Center\, Lilly USA and Columbus State Community College will discuss the treatment and management of diabetes in the minority workforce\, the cost and prevalence of the disease in Central Ohio and the benefits of prevention-focused employee wellness programs. Employers will be provided with information to improve the health of their workforce\, which can eventually reduce costs to their company.
LOCATION:The Ohio State University Medical Center - Martha Morehouse Medical Plaza Auditorium\, 2050 Kenny Road\, Columbus OH
UID:e.304.798
SEQUENCE:3
DTSTAMP:20260420T114128Z
URL:https://cm.newalbanychamber.com/events/details/american-diabetes-association-s-annual-business-address-to-the-community-04-29-2011-798
END:VEVENT

END:VCALENDAR
