BEGIN:VCALENDAR
VERSION:2.0
PRODID:-//ChamberMaster//Event Calendar 2.0//EN
METHOD:PUBLISH
X-PUBLISHED-TTL:P3D
REFRESH-INTERVAL:P3D
CALSCALE:GREGORIAN
BEGIN:VEVENT
DTSTART;VALUE=DATE:20100828
DTEND;VALUE=DATE:20100829
TRANSP:TRANSPARENT
X-MICROSOFT-CDO-ALLDAYEVENT:TRUE
SUMMARY:An Evening in New Albany\, Magical Moments at the McCoy
DESCRIPTION:New Albany Women's Network invites you to their annual "An Evening in New Albany" on Saturday\, August 28\, beginning at 7:00 pm. This event will benefit New Directions Career Center and NAWN's Endowment Fund and will be held at the Jeanne B. McCoy Community Center for the Arts\, 100 W Dublin Granvile Road\, in New Albany. Dancing to live music by "Next Exit" and magic and comedy of David McCreary will be featured. As well as an open bar reception from 7-8 pm with an array of catered culinary creations\, complimentary Champagne bubbles bar and Whiskey bar all evening\, a cash bar from 8-11 pm featuring specialty Martinis and raffle\, silent and live auctions. Please note: this is an adult only community event and all are encouraged to attend.For more information please visit www.NAWN.org.
X-ALT-DESC;FMTTYPE=text/html:<div>New Albany Women's Network invites you to their annual &quot\;An Evening in New Albany&quot\; on Saturday\, August 28\, beginning at 7:00 pm. This event will benefit New Directions Career Center and NAWN's Endowment Fund and will be held at the Jeanne B. McCoy Community Center for the Arts\, 100 W Dublin Granvile Road\, in New Albany. Dancing to live music by &quot\;Next Exit&quot\; and magic and comedy of David McCreary will be featured.&nbsp\;As well as&nbsp\;an open bar reception from 7-8 pm with an array of catered culinary creations\, complimentary Champagne bubbles bar and Whiskey bar all evening\, a cash bar from 8-11 pm featuring specialty Martinis and raffle\, silent and live auctions.</div><div>&nbsp\;</div><div>Please note: this is an adult only community event and all are encouraged to attend.</div><div>For more information please visit <a href="http://www.NAWN.org">www.NAWN.org</a>.</div>
LOCATION:The Jeanne B. McCoy Community Center for the Arts100 West Dublin Granville RoadNew Albany\, Ohio 43054
UID:e.304.676
SEQUENCE:3
DTSTAMP:20260421T014450Z
URL:https://cm.newalbanychamber.com/events/details/an-evening-in-new-albany-magical-moments-at-the-mccoy-08-28-2010-676
END:VEVENT

END:VCALENDAR
