BEGIN:VCALENDAR
VERSION:2.0
PRODID:-//ChamberMaster//Event Calendar 2.0//EN
METHOD:PUBLISH
X-PUBLISHED-TTL:P3D
REFRESH-INTERVAL:P3D
CALSCALE:GREGORIAN
BEGIN:VEVENT
DTSTART;VALUE=DATE:20101003
DTEND;VALUE=DATE:20101004
TRANSP:TRANSPARENT
X-MICROSOFT-CDO-ALLDAYEVENT:TRUE
SUMMARY:Animal Blessing
DESCRIPTION:ANIMAL BLESSING ? SUNDAY\, OCTOBER 3 AT 1:30 P.M.\n\nPastor\, Rev. Jerry Rodenfels with Rev. Jim Colopy\,  invite the New Albany community and the neighboring communities at large\, to celebrate all of God?s creation at an Animal Blessing Sunday\, October 3\, 2010 on the south lawn of the church.  Fr. Jim Colopy will be on hand to greet and bless! Bring your pets and animal friends.  Invite your neighbors!  Smokey Joe\, the mounted police horse\, and Officer Joe Duff from the New Albany Police Department will be joining us!
X-ALT-DESC;FMTTYPE=text/html:ANIMAL BLESSING ? SUNDAY\, OCTOBER 3 AT 1:30 P.M.\n<br>Pastor\, Rev. Jerry Rodenfels with Rev. Jim Colopy\,  invite the New Albany community and the neighboring communities at large\, to celebrate all of God?s creation at an Animal Blessing Sunday\, October 3\, 2010 on the south lawn of the church.  Fr. Jim Colopy will be on hand to greet and bless! Bring your pets and animal friends.  Invite your neighbors!  Smokey Joe\, the mounted police horse\, and Officer Joe Duff from the New Albany Police Department will be joining us!\n<br>
LOCATION:Church of Resurrection - 6300 E. Dublin Granville Rd.\, New ALbany\, OH 43054 South lawn of the church property
UID:e.304.706
SEQUENCE:3
DTSTAMP:20260420T210518Z
URL:https://cm.newalbanychamber.com/events/details/animal-blessing-10-03-2010-706
END:VEVENT

END:VCALENDAR
