BEGIN:VCALENDAR
VERSION:2.0
PRODID:-//ChamberMaster//Event Calendar 2.0//EN
METHOD:PUBLISH
X-PUBLISHED-TTL:P3D
REFRESH-INTERVAL:P3D
CALSCALE:GREGORIAN
BEGIN:VEVENT
DTSTART:20091004T173000Z
DTEND:20091004T180000Z
X-MICROSOFT-CDO-ALLDAYEVENT:FALSE
SUMMARY:Animal Blessing
DESCRIPTION:Fr. Jerry Rodenfels\, pastor of Church of the Resurrection\, invites the community to celebrate God's creation by bringing their animals for a blessing.  'Smokey' and Joe from the New Albany Police Dapartment will be there to celebrate\, too!  Bring your animals\, big and small\, to the south lawn of the church at 6300 E. Dublin Granville Rd.
X-ALT-DESC;FMTTYPE=text/html:Fr. Jerry Rodenfels\, pastor of Church of the Resurrection\, invites the community to celebrate God's creation by bringing their animals for a blessing.  'Smokey' and Joe from the New Albany Police Dapartment will be there to celebrate\, too!  Bring your animals\, big and small\, to the south lawn of the church at 6300 E. Dublin Granville Rd.  
LOCATION:Church of the Resurrection ( south Lawn of the church ) 6300 E. Dublin Granville Rd.\, New ALbany (corner of Fodor and E. Dublin Granville)
UID:e.304.492
SEQUENCE:3
DTSTAMP:20260421T155857Z
URL:https://cm.newalbanychamber.com/events/details/animal-blessing-10-04-2009-492
END:VEVENT

END:VCALENDAR
