BEGIN:VCALENDAR
VERSION:2.0
PRODID:-//ChamberMaster//Event Calendar 2.0//EN
METHOD:PUBLISH
X-PUBLISHED-TTL:P3D
REFRESH-INTERVAL:P3D
CALSCALE:GREGORIAN
BEGIN:VEVENT
DTSTART:20081218T163000Z
DTEND:20081218T180000Z
X-MICROSOFT-CDO-ALLDAYEVENT:FALSE
SUMMARY:Annual Holiday Salute Luncheon 2008
DESCRIPTION:ANNUAL HOLIDAY SALUTE AND LUNCHEON RECOGNITION OF OUTGOING BOARD MEMBERS AND SPECIAL COMMUNITY AWARDS WILL BE HIGHLIGHTED.
X-ALT-DESC;FMTTYPE=text/html:<div>ANNUAL HOLIDAY SALUTE AND LUNCHEON RECOGNITION OF OUTGOING BOARD MEMBERS AND SPECIAL COMMUNITY AWARDS WILL BE HIGHLIGHTED.</div>\n\n<div>&nbsp\;</div>\n
LOCATION:THE HILTON AT EASTON Easton Town Center 3900 Chagrin Drive
UID:e.304.329
SEQUENCE:3
DTSTAMP:20260422T071005Z
URL:https://cm.newalbanychamber.com/events/details/annual-holiday-salute-luncheon-2008-12-18-2008-329
END:VEVENT

END:VCALENDAR
