BEGIN:VCALENDAR
VERSION:2.0
PRODID:-//ChamberMaster//Event Calendar 2.0//EN
METHOD:PUBLISH
X-PUBLISHED-TTL:P3D
REFRESH-INTERVAL:P3D
CALSCALE:GREGORIAN
BEGIN:VEVENT
DTSTART:20090416T120000Z
DTEND:20090416T200000Z
X-MICROSOFT-CDO-ALLDAYEVENT:FALSE
SUMMARY:April Chamber Event 2009
DESCRIPTION:The New Albany Chamber of Commerce invites you to attend a Leadership Symposium at the Columbus Convention Center. Title: Commitment "The path to leadership excellence". Starting with a networking breakfast\, luncheon speaker\, Dorothy Marcic\, on "How the Arts Both Reflect and Impact Leadership. Break out sessions and a "Take-it-back-to -work" planning session to the end of the day.
X-ALT-DESC;FMTTYPE=text/html:<div>The New Albany Chamber of Commerce invites you to attend a Leadership Symposium at the Columbus Convention Center. Title: Commitment &quot\;The path to leadership excellence&quot\;. Starting with a networking breakfast\, luncheon speaker\, Dorothy Marcic\, on &quot\;How the Arts Both Reflect and Impact Leadership. Break out sessions and a &quot\;Take-it-back-to -work&quot\; planning session to the end of the day.</div>
LOCATION:Columbus Convention Center
UID:e.304.405
SEQUENCE:3
DTSTAMP:20260422T010513Z
URL:https://cm.newalbanychamber.com/events/details/april-chamber-event-2009-04-16-2009-405
END:VEVENT

END:VCALENDAR
