BEGIN:VCALENDAR
VERSION:2.0
PRODID:-//ChamberMaster//Event Calendar 2.0//EN
METHOD:PUBLISH
X-PUBLISHED-TTL:P3D
REFRESH-INTERVAL:P3D
CALSCALE:GREGORIAN
BEGIN:VEVENT
DTSTART;VALUE=DATE:20081231
DTEND;VALUE=DATE:20090101
TRANSP:TRANSPARENT
X-MICROSOFT-CDO-ALLDAYEVENT:TRUE
SUMMARY:''Art in Literature'' by Kim Thanasiu
DESCRIPTION:Hayley Gallery invites to you attend Kim Thanasiu's "Art in Literature"\, from Toledo\, on Wednesday\, December 31st beginning at 9:30. She will be featuring wall hangings\, paintings and highly creative mixed media at the Hayley Gallery on 45 Second Street in New Albany\, 43054. For more information you can contact Hayley Savage at 614.855.4856 or visit her website at www.hayleygallery.com.
X-ALT-DESC;FMTTYPE=text/html:<div>Hayley Gallery invites to you attend Kim Thanasiu's &quot\;Art in Literature&quot\;\,&nbsp\;from Toledo\,&nbsp\;on Wednesday\, December 31st beginning at 9:30. She will be featuring wall hangings\, paintings and highly creative mixed media at the Hayley Gallery on 45 Second Street in New Albany\, 43054. For more information you can contact Hayley Savage at 614.855.4856 or visit her website at <a href="http://www.hayleygallery.com">www.hayleygallery.com</a>.</div>
LOCATION:
UID:e.304.317
SEQUENCE:3
DTSTAMP:20260422T071236Z
URL:https://cm.newalbanychamber.com/events/details/art-in-literature-by-kim-thanasiu-12-31-2008-317
END:VEVENT

END:VCALENDAR
