BEGIN:VCALENDAR
VERSION:2.0
PRODID:-//ChamberMaster//Event Calendar 2.0//EN
METHOD:PUBLISH
X-PUBLISHED-TTL:P3D
REFRESH-INTERVAL:P3D
CALSCALE:GREGORIAN
BEGIN:VEVENT
DTSTART;VALUE=DATE:20080517
DTEND;VALUE=DATE:20080519
TRANSP:TRANSPARENT
X-MICROSOFT-CDO-ALLDAYEVENT:TRUE
SUMMARY:Art in New Albany
DESCRIPTION:Last year\, over 100 local and nationally known artists offered more than 225 pieces at this event. Attended by 400+ guests\, AINA 2007 was considered a success for TBS and Artists alike. AINA 2008 is an art fair and promises to be a wonderful event for artists\, art patrons and TBS. We expect 45 artists to display over 300 pieces of art with half the proceeds benefiting TBS.
X-ALT-DESC;FMTTYPE=text/html:<div>Last year\, over 100 local and nationally known artists offered more than 225 pieces at this event. Attended by 400+ guests\, AINA 2007 was considered a success for TBS and Artists alike. AINA 2008 is an art fair and promises to be a wonderful event for artists\, art patrons and TBS. We expect 45 artists to display over 300 pieces of art with half the proceeds benefiting TBS.</div>
LOCATION:Temple Beth Shalom5089 Johnstown Rd.New Albany\, OH 43054
UID:e.304.188
SEQUENCE:3
DTSTAMP:20260422T174925Z
URL:https://cm.newalbanychamber.com/events/details/art-in-new-albany-05-17-2008-188
END:VEVENT

END:VCALENDAR
