BEGIN:VCALENDAR
VERSION:2.0
PRODID:-//ChamberMaster//Event Calendar 2.0//EN
METHOD:PUBLISH
X-PUBLISHED-TTL:P3D
REFRESH-INTERVAL:P3D
CALSCALE:GREGORIAN
BEGIN:VEVENT
DTSTART:20080316T180000Z
DTEND:20080316T193000Z
X-MICROSOFT-CDO-ALLDAYEVENT:FALSE
SUMMARY:Arthur - Live!
DESCRIPTION:Based on Marc Brown?s books and Emmy-Award winning PBS series this all new ARTHUR LIVE! comes to life on the stage! Enjoy the family fun\, as everyone?s favorite aardvark and his friends all hit the stage in this delightful musical adventure. The show features the lovable\, intrepid Arthur\, his feisty sister DW\, his good buddies Buster and Brain\, his nemesis Francine ? and introduces the warm\, wise and wacky Tooth Fairy. During Arthur?s adventures he discovers and shares the importance of teamwork\, learning\, and the joys of just being a kid. Featuring a dozen original songs\, this interactive show will keep the whole family thoroughly engaged.
X-ALT-DESC;FMTTYPE=text/html:Based on Marc Brown?s books and Emmy-Award winning PBS series this all new ARTHUR LIVE! comes to life on the stage! Enjoy the family fun\, as everyone?s favorite aardvark and his friends all hit the stage in this delightful musical adventure. The show features the lovable\, intrepid Arthur\, his feisty sister DW\, his good buddies Buster and Brain\, his nemesis Francine ? and introduces the warm\, wise and wacky Tooth Fairy. During Arthur?s adventures he discovers and shares the importance of teamwork\, learning\, and the joys of just being a kid. Featuring a dozen original songs\, this interactive show will keep the whole family thoroughly engaged.
LOCATION:Jeanne B. McCoy Community Center for the Arts
UID:e.304.207
SEQUENCE:3
DTSTAMP:20260422T202038Z
URL:https://cm.newalbanychamber.com/events/details/arthur-live-03-16-2008-207
END:VEVENT

END:VCALENDAR
