BEGIN:VCALENDAR
VERSION:2.0
PRODID:-//ChamberMaster//Event Calendar 2.0//EN
METHOD:PUBLISH
X-PUBLISHED-TTL:P3D
REFRESH-INTERVAL:P3D
CALSCALE:GREGORIAN
BEGIN:VEVENT
DTSTART;VALUE=DATE:20100321
DTEND;VALUE=DATE:20100322
TRANSP:TRANSPARENT
X-MICROSOFT-CDO-ALLDAYEVENT:TRUE
SUMMARY:Artist Opening Reception for Carol Phillips Whitt & Carolyn Beavers
DESCRIPTION:Hayley Gallery invites you to attend their Artist Opening Reception for Carol Phillips Whitt (Granville) and Carolyn Beavers (Columbus) on Sunday\, March 21st\, from 1pm until 4pm. This event will be held at Hayley Gallery\, 45 Second Street\, New Albany 43054.Their show entitled "Promises of Spring: Works for the Body and Soul" and includes works on canvas\, painted enamel\, ceramics\, and nad-crafted jewelry. The show continues thorugh April 16\, 2010.For more information call 614-855-4856 or visit www.hayleygallery.com.
X-ALT-DESC;FMTTYPE=text/html:<div>Hayley Gallery invites you to attend their Artist Opening Reception for Carol Phillips Whitt (Granville) and Carolyn Beavers (Columbus) on Sunday\, March 21st\, from 1pm until 4pm. This event will be held at Hayley Gallery\, 45 Second Street\, New Albany 43054.</div><div>Their show entitled &quot\;Promises of Spring: Works for the Body and Soul&quot\; and includes works on canvas\, painted enamel\, ceramics\, and nad-crafted jewelry. The show continues thorugh April 16\, 2010.</div><div>For more information call 614-855-4856 or visit www.hayleygallery.com.</div>
LOCATION:45 Second StreetNew Albany\, Ohio 43054
UID:e.304.612
SEQUENCE:3
DTSTAMP:20260421T090022Z
URL:https://cm.newalbanychamber.com/events/details/artist-opening-reception-for-carol-phillips-whitt-carolyn-beavers-03-21-2010-612
END:VEVENT

END:VCALENDAR
