BEGIN:VCALENDAR
VERSION:2.0
PRODID:-//ChamberMaster//Event Calendar 2.0//EN
METHOD:PUBLISH
X-PUBLISHED-TTL:P3D
REFRESH-INTERVAL:P3D
CALSCALE:GREGORIAN
BEGIN:VEVENT
DTSTART:20250517T210000Z
DTEND:20250518T000000Z
X-MICROSOFT-CDO-ALLDAYEVENT:FALSE
SUMMARY:Artist Opening Reception for Gina Wolfrum & Justin Collamore - Luminous Moments
DESCRIPTION:Hayley Gallery brings a new and exciting exhibit to the gallery on a monthly basis featuring a wide range of artists and mediums. Artist opening receptions are FREE to attend (ages 12 and up please). RSVPs although not required are always encouraged. Call the gallery at 614-855-4856 to reserve your spot at any of our upcoming receptions.
X-ALT-DESC;FMTTYPE=text/html:Hayley Gallery brings a new and exciting exhibit to the gallery on a monthly basis featuring a wide range of artists and mediums. Artist opening receptions are FREE to attend (ages 12 and up please). RSVPs although not required are always encouraged. Call the gallery at 614-855-4856 to reserve your spot at any of our upcoming receptions.
LOCATION:Hayley Gallery 260 Market Street New Albany\, OH\, 43054
UID:e.304.20394
SEQUENCE:3
DTSTAMP:20260420T221611Z
URL:https://cm.newalbanychamber.com/events/details/artist-opening-reception-for-gina-wolfrum-justin-collamore-luminous-moments-20394
END:VEVENT

END:VCALENDAR
