BEGIN:VCALENDAR
VERSION:2.0
PRODID:-//ChamberMaster//Event Calendar 2.0//EN
METHOD:PUBLISH
X-PUBLISHED-TTL:P3D
REFRESH-INTERVAL:P3D
CALSCALE:GREGORIAN
BEGIN:VEVENT
DTSTART;VALUE=DATE:20080625
DTEND;VALUE=DATE:20080626
TRANSP:TRANSPARENT
X-MICROSOFT-CDO-ALLDAYEVENT:TRUE
SUMMARY:Auditions for the New Albany Symphony
DESCRIPTION:Auditions for the New Albany Symphony for interested local or student musicians will take place on June 25th from 6 - 9pm at the Jeanne B. McCoy Community Center for the Arts. To schedule an audition please call 614-323-1237 or email hgarner@newalbanysymphony.com. For more information check ou the New Albany Symphony Web site at newalbanysymphony.com.
X-ALT-DESC;FMTTYPE=text/html:<div>Auditions for the New Albany Symphony for interested local or student musicians will take place on June 25th from 6 - 9pm at the Jeanne B. McCoy Community Center for the Arts. To schedule an audition please call 614-323-1237 or email <a href="mailto:hgarner@newalbanysymphony.com">hgarner@newalbanysymphony.com</a>. For more information check ou the New Albany Symphony Web site at newalbanysymphony.com.</div>
LOCATION:
UID:e.304.244
SEQUENCE:3
DTSTAMP:20260422T173310Z
URL:https://cm.newalbanychamber.com/events/details/auditions-for-the-new-albany-symphony-06-25-2008-244
END:VEVENT

END:VCALENDAR
