BEGIN:VCALENDAR
VERSION:2.0
PRODID:-//ChamberMaster//Event Calendar 2.0//EN
METHOD:PUBLISH
X-PUBLISHED-TTL:P3D
REFRESH-INTERVAL:P3D
CALSCALE:GREGORIAN
BEGIN:VEVENT
DTSTART;VALUE=DATE:20090820
DTEND;VALUE=DATE:20090821
TRANSP:TRANSPARENT
X-MICROSOFT-CDO-ALLDAYEVENT:TRUE
SUMMARY:August Chamber Meeting 2009
DESCRIPTION:The New Albany Chamber of Commerce invites you to attend our monthly chamber network that will be held on Thursday\, August 20\, of 2009. The Fast 40 Network will begin at 11:30am at Gameworks located at 165 Easton Town Center in Columbus\, 43219. For more information contact the chamber at 614-855-4400.
X-ALT-DESC;FMTTYPE=text/html:<div>The New Albany Chamber of Commerce invites you to attend our monthly chamber&nbsp\;network that will be held on Thursday\, August 20\,&nbsp\;of 2009. The&nbsp\;Fast 40 Network&nbsp\;will begin at 11:30am at Gameworks located at 165 Easton Town Center in Columbus\, 43219.&nbsp\;For more information contact the chamber at 614-855-4400.</div>
LOCATION:
UID:e.304.375
SEQUENCE:3
DTSTAMP:20260421T202621Z
URL:https://cm.newalbanychamber.com/events/details/august-chamber-meeting-2009-08-20-2009-375
END:VEVENT

END:VCALENDAR
