BEGIN:VCALENDAR
VERSION:2.0
PRODID:-//ChamberMaster//Event Calendar 2.0//EN
METHOD:PUBLISH
X-PUBLISHED-TTL:P3D
REFRESH-INTERVAL:P3D
CALSCALE:GREGORIAN
BEGIN:VEVENT
DTSTART;VALUE=DATE:20100605
DTEND;VALUE=DATE:20100606
TRANSP:TRANSPARENT
X-MICROSOFT-CDO-ALLDAYEVENT:TRUE
SUMMARY:BABDC Recital 2010
DESCRIPTION:Join Broadway Bound Dance Center at their annual Recital on SUnday\, June 5th\, of 2010. For more information call 611-855-7736 or visit www.bbdc-dance.com.
X-ALT-DESC;FMTTYPE=text/html:<div>Join Broadway Bound Dance Center at their annual Recital on SUnday\, June 5th\, of 2010. For more information call 611-855-7736 or visit <a href="http://www.bbdc-dance.com">www.bbdc-dance.com</a>.</div>
LOCATION:
UID:e.304.536
SEQUENCE:3
DTSTAMP:20260421T035219Z
URL:https://cm.newalbanychamber.com/events/details/babdc-recital-2010-06-05-2010-536
END:VEVENT

END:VCALENDAR
