BEGIN:VCALENDAR
VERSION:2.0
PRODID:-//ChamberMaster//Event Calendar 2.0//EN
METHOD:PUBLISH
X-PUBLISHED-TTL:P3D
REFRESH-INTERVAL:P3D
CALSCALE:GREGORIAN
BEGIN:VEVENT
DTSTART;VALUE=DATE:20080710
DTEND;VALUE=DATE:20080711
TRANSP:TRANSPARENT
X-MICROSOFT-CDO-ALLDAYEVENT:TRUE
SUMMARY:Backyard Bash
DESCRIPTION:Please join the New Albany Women's Network for a Summer-time Backyard Bash on Thursday\, July 10th at 6:30 pm. This will be held at the home of Sarah Ryan\, 3700 Prestwould Close in Planter's Grove of New Albany. Please bring a summer appetizer or dessert to share. Fun summer games\, great conversations and friends will be provided! Please RSVP to social@NAWN.org by July 7th. It's time to have summer fun with NAWN!
X-ALT-DESC;FMTTYPE=text/html:<div>Please join the New Albany Women's Network for a Summer-time Backyard Bash on Thursday\, July 10th at 6:30 pm. This will be held at the home of Sarah Ryan\, 3700 Prestwould Close in Planter's Grove of New Albany. Please bring a summer appetizer or dessert to share. Fun summer games\, great conversations and friends will be provided! Please RSVP to <a href="mailto:social@NAWN.org">social@NAWN.org</a> by July 7th. <em>It's time to have summer fun with NAWN!</em></div>
LOCATION:
UID:e.304.246
SEQUENCE:3
DTSTAMP:20260422T155816Z
URL:https://cm.newalbanychamber.com/events/details/backyard-bash-07-10-2008-246
END:VEVENT

END:VCALENDAR
