BEGIN:VCALENDAR
VERSION:2.0
PRODID:-//ChamberMaster//Event Calendar 2.0//EN
METHOD:PUBLISH
X-PUBLISHED-TTL:P3D
REFRESH-INTERVAL:P3D
CALSCALE:GREGORIAN
BEGIN:VEVENT
DTSTART:20260627T150000Z
DTEND:20260627T163000Z
X-MICROSOFT-CDO-ALLDAYEVENT:FALSE
SUMMARY:Bad & Bougie Mocktails: Functional Mixology
DESCRIPTION:Bad & Bougie Mocktails: Functional Mixology for the Wellness Era\n\nAn immersive\, alcohol-free experience focused on crafting sophisticated mocktails that nourish the body while elevating hosting standards. Participants will learn how to create low-glycemic\, functional\, visually stunning mocktails using adaptogens\, fresh botanicals\, and gut-supportive ingredients   while mastering professional mixology techniques. This is for the entertainer in you!
X-ALT-DESC;FMTTYPE=text/html:Bad &amp\; Bougie Mocktails: Functional Mixology for the Wellness Era<br />\nAn immersive\, alcohol-free experience focused on crafting sophisticated mocktails that nourish the body while elevating hosting standards. Participants will learn how to create low-glycemic\, functional\, visually stunning mocktails using adaptogens\, fresh botanicals\, and gut-supportive ingredients &mdash\; while mastering professional mixology techniques. This is for the entertainer in you!
LOCATION:Philip Heit Center Demo Kitchen on the first floor 150 W. Main St New Albany\, OH 43054
UID:e.304.21922
SEQUENCE:3
DTSTAMP:20260420T210237Z
URL:https://cm.newalbanychamber.com/events/details/bad-bougie-mocktails-functional-mixology-21922
END:VEVENT

END:VCALENDAR
