BEGIN:VCALENDAR
VERSION:2.0
PRODID:-//ChamberMaster//Event Calendar 2.0//EN
METHOD:PUBLISH
X-PUBLISHED-TTL:P3D
REFRESH-INTERVAL:P3D
CALSCALE:GREGORIAN
BEGIN:VEVENT
DTSTART:20100709T233000Z
DTEND:20100711T193000Z
X-MICROSOFT-CDO-ALLDAYEVENT:FALSE
SUMMARY:Beauty and the Beast\, jr.
DESCRIPTION:New Albany Arts Council presents Beauty and the Beast\, jr.\, its 11th annual summer junior musical production
X-ALT-DESC;FMTTYPE=text/html:New Albany Arts Council presents Beauty and the Beast\, jr.\, its 11th annual summer junior musical production
LOCATION:Jeanne B. McCoy Community Center for the Arts
UID:e.304.539
SEQUENCE:3
DTSTAMP:20260421T022538Z
URL:https://cm.newalbanychamber.com/events/details/beauty-and-the-beast-jr-07-09-2010-539
END:VEVENT

END:VCALENDAR
