BEGIN:VCALENDAR
VERSION:2.0
PRODID:-//ChamberMaster//Event Calendar 2.0//EN
METHOD:PUBLISH
X-PUBLISHED-TTL:P3D
REFRESH-INTERVAL:P3D
CALSCALE:GREGORIAN
BEGIN:VEVENT
DTSTART:20100320T130000Z
DTEND:20100320T180000Z
X-MICROSOFT-CDO-ALLDAYEVENT:FALSE
SUMMARY:Beauty and the Beast jr Auditions
DESCRIPTION:Auditions for New Albany Arts Council summer musical production Beauty and the Beast jr for area children in grades 3 through 9
X-ALT-DESC;FMTTYPE=text/html:Auditions for New Albany Arts Council summer musical production Beauty and the Beast jr for area children in grades 3 through 9
LOCATION:Broadway Bound Dance Centre\, 6701 Bevelhymer Rd.\, New Albany
UID:e.304.572
SEQUENCE:3
DTSTAMP:20260421T085831Z
URL:https://cm.newalbanychamber.com/events/details/beauty-and-the-beast-jr-auditions-03-20-2010-572
END:VEVENT

END:VCALENDAR
