BEGIN:VCALENDAR
VERSION:2.0
PRODID:-//ChamberMaster//Event Calendar 2.0//EN
METHOD:PUBLISH
X-PUBLISHED-TTL:P3D
REFRESH-INTERVAL:P3D
CALSCALE:GREGORIAN
BEGIN:VEVENT
DTSTART:20100306T160000Z
DTEND:20100308T030000Z
X-MICROSOFT-CDO-ALLDAYEVENT:FALSE
SUMMARY:Bellacino's-Grab A Grinder for Turf!
DESCRIPTION:Dine at Bellacino's Pizza and Grinders on March 6 & 7th & we will donate 20% of all sales to NAHS Athletic Boosters in support of our First Class Field for a First Class Community Project.Store Hours:Mon. - Wed. 11 a.m.-9 p.m.Thus.-Sat. 11 a.m.-9 p.m.Sun. Noon-9 p.m.
X-ALT-DESC;FMTTYPE=text/html:<div>Dine at Bellacino's Pizza and Grinders on March 6 &amp\; 7th &amp\; we will donate 20% of all sales to NAHS Athletic Boosters in support of our First Class Field for a First Class Community Project.</div><div>Store Hours:</div><div>Mon. - Wed. 11 a.m.-9 p.m.</div><div>Thus.-Sat. 11 a.m.-9 p.m.</div><div>Sun. Noon-9 p.m.</div>
LOCATION:Bellacino's Pizza & Grinders4926 Morse Rd.Columbus\, Ohio 614-855-5858
UID:e.304.588
SEQUENCE:3
DTSTAMP:20260421T102648Z
URL:https://cm.newalbanychamber.com/events/details/bellacino-s-grab-a-grinder-for-turf-03-06-2010-588
END:VEVENT

END:VCALENDAR
