BEGIN:VCALENDAR
VERSION:2.0
PRODID:-//ChamberMaster//Event Calendar 2.0//EN
METHOD:PUBLISH
X-PUBLISHED-TTL:P3D
REFRESH-INTERVAL:P3D
CALSCALE:GREGORIAN
BEGIN:VEVENT
DTSTART:20090128T230000Z
DTEND:20090129T030000Z
X-MICROSOFT-CDO-ALLDAYEVENT:FALSE
SUMMARY:Black Tie. Blue Jackets. Style Show
DESCRIPTION:Each year the Columbus Blue Jackets Foundation and Saks Fifth Avenue team up to present the fashion event of the season - Black Tie. Blue Jackets. Style Show presented by Kelly BMW.\n\nDue to tremendous support\, the 2008-2009 Black Tie. Blue Jackets. Style Show will include many exciting\, new features. This season?s show will take place on Wednesday\, January 28 in the new Hilton ? Polaris Grand Ballroom and include a pre-show Heidelberg wine tasting & model meet and greet (6-7pm)\, style show featuring pediatric cancer heroes alongside Blue Jackets players and wives (7pm)\, sit-down dinner\, entertainment\, commemorative gift\, and exclusive auction.\n\nBlue Jackets celebrity models will be available to meet and greet guests during the pre-show wine tasting in addition to joining ?Celebrity Tables? for dinner.
X-ALT-DESC;FMTTYPE=text/html:Each year the Columbus Blue Jackets Foundation and Saks Fifth Avenue team up to present the fashion event of the season - Black Tie. Blue Jackets. Style Show presented by Kelly BMW.\n\nDue to tremendous support\, the 2008-2009 Black Tie. Blue Jackets. Style Show will include many exciting\, new features. This season?s show will take place on Wednesday\, January 28 in the new Hilton ? Polaris Grand Ballroom and include a pre-show Heidelberg wine tasting & model meet and greet (6-7pm)\, style show featuring pediatric cancer heroes alongside Blue Jackets players and wives (7pm)\, sit-down dinner\, entertainment\, commemorative gift\, and exclusive auction.\n\nBlue Jackets celebrity models will be available to meet and greet guests during the pre-show wine tasting in addition to joining ?Celebrity Tables? for dinner.\n\n
LOCATION:Hilton Columbus/Polaris 8700 Lyra Drive Columbus\, Ohio 43240 Tel: 1-614-885-1600
UID:e.304.395
SEQUENCE:3
DTSTAMP:20260422T070858Z
URL:https://cm.newalbanychamber.com/events/details/black-tie-blue-jackets-style-show-01-28-2009-395
END:VEVENT

END:VCALENDAR
