BEGIN:VCALENDAR
VERSION:2.0
PRODID:-//ChamberMaster//Event Calendar 2.0//EN
METHOD:PUBLISH
X-PUBLISHED-TTL:P3D
REFRESH-INTERVAL:P3D
CALSCALE:GREGORIAN
BEGIN:VEVENT
DTSTART;VALUE=DATE:20091026
DTEND;VALUE=DATE:20091027
TRANSP:TRANSPARENT
X-MICROSOFT-CDO-ALLDAYEVENT:TRUE
SUMMARY:Board of Education Meeting
DESCRIPTION:
X-ALT-DESC;FMTTYPE=text/html:
LOCATION:
UID:e.304.386
SEQUENCE:3
DTSTAMP:20260421T160433Z
URL:https://cm.newalbanychamber.com/events/details/board-of-education-meeting-10-26-2009-386
END:VEVENT

END:VCALENDAR
