BEGIN:VCALENDAR
VERSION:2.0
PRODID:-//ChamberMaster//Event Calendar 2.0//EN
METHOD:PUBLISH
X-PUBLISHED-TTL:P3D
REFRESH-INTERVAL:P3D
CALSCALE:GREGORIAN
BEGIN:VEVENT
DTSTART:20100723T110000Z
DTEND:20100723T130000Z
X-MICROSOFT-CDO-ALLDAYEVENT:FALSE
SUMMARY:Breakfast with Business First
DESCRIPTION:Columbus Business First has partnered with Travel Solutions\, to bring you a truly unique networking opportunity. At the breakfast you can network with hundreds of business professionals\, pitch story ideas to the best business reporters in Central Ohio\, take advantage of a special subscription offer and register for a travel door prize. Be sure to ask a Travel Solutions team member about their progressive travel management models.\n\n\n\nFor more information and registration visit: www.ColumbusBusinessFirst.com/event/24651
X-ALT-DESC;FMTTYPE=text/html:Columbus Business First has partnered with Travel Solutions\, to bring you a truly unique networking opportunity. At the breakfast you can network with hundreds of business professionals\, pitch story ideas to the best business reporters in Central Ohio\, take advantage of a special subscription offer and register for a travel door prize. Be sure to ask a Travel Solutions team member about their progressive travel management models.\n<br>\n<br>For more information and registration visit: www.ColumbusBusinessFirst.com/event/24651
LOCATION:Travel Solutions\, 7775 Walton Pkwy\, First Floor\, New Albany\, OH 43054
UID:e.304.661
SEQUENCE:3
DTSTAMP:20260421T022122Z
URL:https://cm.newalbanychamber.com/events/details/breakfast-with-business-first-07-23-2010-661
END:VEVENT

END:VCALENDAR
