BEGIN:VCALENDAR
VERSION:2.0
PRODID:-//ChamberMaster//Event Calendar 2.0//EN
METHOD:PUBLISH
X-PUBLISHED-TTL:P3D
REFRESH-INTERVAL:P3D
CALSCALE:GREGORIAN
BEGIN:VEVENT
DTSTART;VALUE=DATE:20081018
DTEND;VALUE=DATE:20081019
TRANSP:TRANSPARENT
X-MICROSOFT-CDO-ALLDAYEVENT:TRUE
SUMMARY:Bringing Music to Life
DESCRIPTION:Please join the New Albany Symphony Orchestra at Hayley Gallery\, located at 45 Second Street in New Albany\, 43054. It will be an evening of beautiful music on Saturday\, October 18\, from 7:30 pm to 10:30 pm. Meet Maestro Luis Biava\, the soloist for the Gala Concert plus a string quartet featuring New Albany Symphony musicians\, including their executive director\, Heather Garner. Sample delicious beverages and treats and participate in a fabulous Silent Auction. At the event\, local artist Kirsten "Korki" Bowen will unveil the New Albany Symphony Orchestra inaugural season cover art for the program. Tickets will cost $35 each and can be purchased in advance by online at www.newalbanysymphony.com or by cash/check at Hayley Gallery. Please note this is an adults-only event and only 100 tickets will be sold. For more information\, please visit www.newalbanysymphony.com. All proceeds benefit the New Albany Symphony Orchestra.
X-ALT-DESC;FMTTYPE=text/html:<div>Please join the New Albany Symphony Orchestra at Hayley Gallery\, located at 45 Second Street in New Albany\, 43054.&nbsp\;It will be&nbsp\;an evening of beautiful music on Saturday\, October 18\, from 7:30 pm to 10:30 pm. Meet Maestro Luis Biava\, the soloist for&nbsp\;the Gala Concert plus a string quartet featuring New Albany Symphony musicians\, including their executive&nbsp\;director\, Heather Garner. Sample delicious beverages and treats and participate in a fabulous Silent Auction. At the event\, local artist Kirsten &quot\;Korki&quot\; Bowen will unveil the New Albany Symphony Orchestra inaugural season cover art for the program. Tickets will cost $35 each and can be purchased in advance by online at <a href="http://www.newalbanysymphony.com">www.newalbanysymphony.com</a> or by cash/check at Hayley Gallery. Please note this is an adults-only event and only 100 tickets will be sold.&nbsp\;For more information\, please visit <a href="http://www.newalbanysymphony.com">www.newalbanysymphony.com</a>. All proceeds benefit the New Albany Symphony Orchestra.</div>
LOCATION:
UID:e.304.261
SEQUENCE:3
DTSTAMP:20260422T102053Z
URL:https://cm.newalbanychamber.com/events/details/bringing-music-to-life-10-18-2008-261
END:VEVENT

END:VCALENDAR
