BEGIN:VCALENDAR
VERSION:2.0
PRODID:-//ChamberMaster//Event Calendar 2.0//EN
METHOD:PUBLISH
X-PUBLISHED-TTL:P3D
REFRESH-INTERVAL:P3D
CALSCALE:GREGORIAN
BEGIN:VEVENT
DTSTART;VALUE=DATE:20080614
DTEND;VALUE=DATE:20080615
TRANSP:TRANSPARENT
X-MICROSOFT-CDO-ALLDAYEVENT:TRUE
SUMMARY:Broadway Bound Dance Recital
DESCRIPTION:Broadway Dance Recital
X-ALT-DESC;FMTTYPE=text/html:<div>Broadway Dance Recital</div><div>&nbsp\;</div>
LOCATION:McCoy Center for the Arts
UID:e.304.216
SEQUENCE:3
DTSTAMP:20260422T161208Z
URL:https://cm.newalbanychamber.com/events/details/broadway-bound-dance-recital-06-14-2008-216
END:VEVENT

END:VCALENDAR
