BEGIN:VCALENDAR
VERSION:2.0
PRODID:-//ChamberMaster//Event Calendar 2.0//EN
METHOD:PUBLISH
X-PUBLISHED-TTL:P3D
REFRESH-INTERVAL:P3D
CALSCALE:GREGORIAN
BEGIN:VEVENT
DTSTART:20110525T120000Z
DTEND:20110525T143000Z
X-MICROSOFT-CDO-ALLDAYEVENT:FALSE
SUMMARY:Build a Website over Breakfast!
DESCRIPTION:Start using WordPress   the most popular content management system on the web. No previous website development experience is necessary!\n\n	\n		You will leave the workshop with a fully-functional website!\n	\n\n	In this hands-on workshop\, you will configure and build a WordPress website for your business\, organization\, or personal brand. Before you arrive\, all of the extremely techie stuff will be done so you'll be ready to learn & implement!\n\n	\n\n	Included in your ($200) registration fee are: \n\n	\n		\n			One year of website hosting (a $120 value)\n		\n			Domain name registration/transfer (a $10 value)\n		\n			WordPress basic installation\n		\n			Access for a month to instructor via email/phone for WordPress questions\n		\n			A full credit of your registration fee toward a professionally-developed site\n		\n			Breakfast! \n	\n	\n		As part of the workshop curriculum\, we will help you:\n	\n		\n			Select and install a WordPress Theme\n		\n			Select and install plug-ins\n		\n			Add pages \, navigation menus\, contact forms and more to your site\n		\n			Set up Google Analytics to collect traffic statistics\n	\n	\n		 \n	\n		Our goal is that you leave with:\n	\n		\n			A brand new website you can update yourself\n		\n			Dozens of tips and tricks about using WordPress\n		\n			Additional training videos for WordPress support\n		\n			Better understanding of what websites need to be successful\n	\n	\n		Forget about the seminars with 50 people in the room fighting over power outlets. This workshop will be kept small to give individualized attention to each person! \n	\n		Sign up now--space is limited!
X-ALT-DESC;FMTTYPE=text/html:<meta charset="utf-8" />\n<div class="event_description" style="margin-top: 0px\; margin-right: 0px\; margin-bottom: 0px\; margin-left: 0px\; padding-top: 0px\; padding-right: 0px\; padding-bottom: 0px\; padding-left: 0px\; ">\n	<span class="Apple-style-span" style="color: rgb(63\, 77\, 82)\; "><span style="font-family: Helvetica\, Arial\, sans-serif\; margin-top: 0px\; margin-right: 0px\; margin-bottom: 0px\; margin-left: 0px\; padding-top: 0px\; padding-right: 0px\; padding-bottom: 0px\; padding-left: 0px\; font-size: 14px\; "><span style="margin-top: 0px\; margin-right: 0px\; margin-bottom: 0px\; margin-left: 0px\; padding-top: 0px\; padding-right: 0px\; padding-bottom: 0px\; padding-left: 0px\; font-family: georgia\, serif\; ">Start using WordPress &ndash\; the most popular content management system on the web. No previous website development experience is necessary!</span></span></span><br style="margin-top: 0px\; margin-right: 0px\; margin-bottom: 0px\; margin-left: 0px\; padding-top: 0px\; padding-right: 0px\; padding-bottom: 0px\; padding-left: 0px\; " />\n	<p class="p2" style="font-family: Helvetica\, Arial\, sans-serif\; font-size: 13px\; margin-top: 12px\; margin-right: 0px\; margin-bottom: 12px\; margin-left: 0px\; padding-top: 0px\; padding-right: 0px\; padding-bottom: 0px\; padding-left: 0px\; text-align: center\; line-height: 15px\; font: normal normal normal 14px/normal Georgia\; color: rgb(66\, 66\, 66)\; ">\n		<span class="Apple-style-span" style="color: rgb(63\, 77\, 82)\; "><span style="margin-top: 0px\; margin-right: 0px\; margin-bottom: 0px\; margin-left: 0px\; padding-top: 0px\; padding-right: 0px\; padding-bottom: 0px\; padding-left: 0px\; font-size: 14px\; "><span style="margin-top: 0px\; margin-right: 0px\; margin-bottom: 0px\; margin-left: 0px\; padding-top: 0px\; padding-right: 0px\; padding-bottom: 0px\; padding-left: 0px\; font-family: georgia\, serif\; "><b style="margin-top: 0px\; margin-right: 0px\; margin-bottom: 0px\; margin-left: 0px\; padding-top: 0px\; padding-right: 0px\; padding-bottom: 0px\; padding-left: 0px\; ">You will leave the workshop with a fully-functional website!</b></span></span></span></p>\n	<br style="margin-top: 0px\; margin-right: 0px\; margin-bottom: 0px\; margin-left: 0px\; padding-top: 0px\; padding-right: 0px\; padding-bottom: 0px\; padding-left: 0px\; " />\n	<span class="Apple-style-span" style="color: rgb(63\, 77\, 82)\; "><span style="font-size: 13px\; margin-top: 0px\; margin-right: 0px\; margin-bottom: 0px\; margin-left: 0px\; padding-top: 0px\; padding-right: 0px\; padding-bottom: 0px\; padding-left: 0px\; font-family: georgia\, serif\; "><span style="margin-top: 0px\; margin-right: 0px\; margin-bottom: 0px\; margin-left: 0px\; padding-top: 0px\; padding-right: 0px\; padding-bottom: 0px\; padding-left: 0px\; font-size: 14px\; ">In this hands-on workshop\, you will configure and build a WordPress website for your business\, organization\, or personal brand. Before you arrive\, all of the extremely techie stuff will be done so you&rsquo\;ll be ready to learn &amp\; implement!<br />\n	<br />\n	Included in your ($200) registration fee are:&nbsp\;</span></span></span><br />\n	<ul style="margin-top: 0px\; margin-right: 0px\; margin-bottom: 0px\; margin-left: 0px\; padding-top: 0px\; padding-right: 0px\; padding-bottom: 0px\; padding-left: 0px\; ">\n		<li class="p3" style="font-family: Helvetica\, Arial\, sans-serif\; font-size: 13px\; margin-top: 0px\; margin-right: 0px\; margin-bottom: 0px\; margin-left: 15px\; padding-top: 0px\; padding-right: 0px\; padding-bottom: 0px\; padding-left: 0px\; list-style-type: disc\; list-style-position: initial\; list-style-image: initial\; ">\n			<span class="Apple-style-span" style="color: rgb(63\, 77\, 82)\; "><span class="Apple-style-span" style="font-family: georgia\, serif\; font-size: 14px\; ">One year of website hosting (a $120 value)</span></span></li>\n		<li class="p3" style="font-family: Helvetica\, Arial\, sans-serif\; font-size: 13px\; margin-top: 0px\; margin-right: 0px\; margin-bottom: 0px\; margin-left: 15px\; padding-top: 0px\; padding-right: 0px\; padding-bottom: 0px\; padding-left: 0px\; list-style-type: disc\; list-style-position: initial\; list-style-image: initial\; ">\n			<span class="Apple-style-span" style="color: rgb(63\, 77\, 82)\; "><span style="margin-top: 0px\; margin-right: 0px\; margin-bottom: 0px\; margin-left: 0px\; padding-top: 0px\; padding-right: 0px\; padding-bottom: 0px\; padding-left: 0px\; font-size: 14px\; "><span style="margin-top: 0px\; margin-right: 0px\; margin-bottom: 0px\; margin-left: 0px\; padding-top: 0px\; padding-right: 0px\; padding-bottom: 0px\; padding-left: 0px\; font-family: georgia\, serif\; ">Domain name registration/transfer (a $10 value)</span></span></span></li>\n		<li class="p3" style="font-family: Helvetica\, Arial\, sans-serif\; font-size: 13px\; margin-top: 0px\; margin-right: 0px\; margin-bottom: 0px\; margin-left: 15px\; padding-top: 0px\; padding-right: 0px\; padding-bottom: 0px\; padding-left: 0px\; list-style-type: disc\; list-style-position: initial\; list-style-image: initial\; ">\n			<span class="Apple-style-span" style="color: rgb(63\, 77\, 82)\; "><span style="margin-top: 0px\; margin-right: 0px\; margin-bottom: 0px\; margin-left: 0px\; padding-top: 0px\; padding-right: 0px\; padding-bottom: 0px\; padding-left: 0px\; font-size: 14px\; "><span style="margin-top: 0px\; margin-right: 0px\; margin-bottom: 0px\; margin-left: 0px\; padding-top: 0px\; padding-right: 0px\; padding-bottom: 0px\; padding-left: 0px\; font-family: georgia\, serif\; ">WordPress basic installation</span></span></span></li>\n		<li class="p3" style="font-family: Helvetica\, Arial\, sans-serif\; font-size: 13px\; margin-top: 0px\; margin-right: 0px\; margin-bottom: 0px\; margin-left: 15px\; padding-top: 0px\; padding-right: 0px\; padding-bottom: 0px\; padding-left: 0px\; list-style-type: disc\; list-style-position: initial\; list-style-image: initial\; ">\n			<span class="Apple-style-span" style="color: rgb(63\, 77\, 82)\; "><span style="margin-top: 0px\; margin-right: 0px\; margin-bottom: 0px\; margin-left: 0px\; padding-top: 0px\; padding-right: 0px\; padding-bottom: 0px\; padding-left: 0px\; font-size: 14px\; "><span style="margin-top: 0px\; margin-right: 0px\; margin-bottom: 0px\; margin-left: 0px\; padding-top: 0px\; padding-right: 0px\; padding-bottom: 0px\; padding-left: 0px\; font-family: georgia\, serif\; ">Access for a month to instructor via email/phone for WordPress questions</span></span></span></li>\n		<li class="p3" style="font-family: Helvetica\, Arial\, sans-serif\; font-size: 13px\; margin-top: 0px\; margin-right: 0px\; margin-bottom: 0px\; margin-left: 15px\; padding-top: 0px\; padding-right: 0px\; padding-bottom: 0px\; padding-left: 0px\; list-style-type: disc\; list-style-position: initial\; list-style-image: initial\; ">\n			<span class="Apple-style-span" style="color: rgb(63\, 77\, 82)\; "><span style="margin-top: 0px\; margin-right: 0px\; margin-bottom: 0px\; margin-left: 0px\; padding-top: 0px\; padding-right: 0px\; padding-bottom: 0px\; padding-left: 0px\; font-size: 14px\; "><span style="margin-top: 0px\; margin-right: 0px\; margin-bottom: 0px\; margin-left: 0px\; padding-top: 0px\; padding-right: 0px\; padding-bottom: 0px\; padding-left: 0px\; font-family: georgia\, serif\; ">A full credit of your registration fee toward a professionally-developed site</span></span></span></li>\n		<li class="p3" style="font-family: Helvetica\, Arial\, sans-serif\; font-size: 13px\; margin-top: 0px\; margin-right: 0px\; margin-bottom: 0px\; margin-left: 15px\; padding-top: 0px\; padding-right: 0px\; padding-bottom: 0px\; padding-left: 0px\; list-style-type: disc\; list-style-position: initial\; list-style-image: initial\; ">\n			<span class="Apple-style-span" style="color: rgb(63\, 77\, 82)\; "><span style="margin-top: 0px\; margin-right: 0px\; margin-bottom: 0px\; margin-left: 0px\; padding-top: 0px\; padding-right: 0px\; padding-bottom: 0px\; padding-left: 0px\; font-size: 14px\; "><span style="margin-top: 0px\; margin-right: 0px\; margin-bottom: 0px\; margin-left: 0px\; padding-top: 0px\; padding-right: 0px\; padding-bottom: 0px\; padding-left: 0px\; font-family: georgia\, serif\; ">Breakfast!&nbsp\;</span></span></span></li>\n	</ul>\n	<p class="p1" style="font-family: Helvetica\, Arial\, sans-serif\; font-size: 13px\; margin-top: 12px\; margin-right: 0px\; margin-bottom: 12px\; margin-left: 0px\; padding-top: 0px\; padding-right: 0px\; padding-bottom: 0px\; padding-left: 0px\; line-height: 15px\; font: normal normal normal 10px/normal Georgia\; color: rgb(66\, 66\, 66)\; ">\n		<span class="Apple-style-span" style="color: rgb(63\, 77\, 82)\; "><span style="margin-top: 0px\; margin-right: 0px\; margin-bottom: 0px\; margin-left: 0px\; padding-top: 0px\; padding-right: 0px\; padding-bottom: 0px\; padding-left: 0px\; font-size: 14px\; "><span style="margin-top: 0px\; margin-right: 0px\; margin-bottom: 0px\; margin-left: 0px\; padding-top: 0px\; padding-right: 0px\; padding-bottom: 0px\; padding-left: 0px\; font-family: georgia\, serif\; ">As part of the workshop curriculum\, we will help you:</span></span></span></p>\n	<ul style="font-family: Helvetica\, Arial\, sans-serif\; font-size: 13px\; margin-top: 0px\; margin-right: 0px\; margin-bottom: 0px\; margin-left: 0px\; padding-top: 0px\; padding-right: 0px\; padding-bottom: 0px\; padding-left: 0px\; ">\n		<li class="p3" style="margin-top: 0px\; margin-right: 0px\; margin-bottom: 0px\; margin-left: 15px\; padding-top: 0px\; padding-right: 0px\; padding-bottom: 0px\; padding-left: 0px\; list-style-type: disc\; list-style-position: initial\; list-style-image: initial\; ">\n			<span class="Apple-style-span" style="color: rgb(63\, 77\, 82)\; "><span style="margin-top: 0px\; margin-right: 0px\; margin-bottom: 0px\; margin-left: 0px\; padding-top: 0px\; padding-right: 0px\; padding-bottom: 0px\; padding-left: 0px\; font-size: 14px\; "><span style="margin-top: 0px\; margin-right: 0px\; margin-bottom: 0px\; margin-left: 0px\; padding-top: 0px\; padding-right: 0px\; padding-bottom: 0px\; padding-left: 0px\; font-family: georgia\, serif\; ">Select and install a WordPress Theme</span></span></span></li>\n		<li class="p3" style="margin-top: 0px\; margin-right: 0px\; margin-bottom: 0px\; margin-left: 15px\; padding-top: 0px\; padding-right: 0px\; padding-bottom: 0px\; padding-left: 0px\; list-style-type: disc\; list-style-position: initial\; list-style-image: initial\; ">\n			<span class="Apple-style-span" style="color: rgb(63\, 77\, 82)\; "><span style="margin-top: 0px\; margin-right: 0px\; margin-bottom: 0px\; margin-left: 0px\; padding-top: 0px\; padding-right: 0px\; padding-bottom: 0px\; padding-left: 0px\; font-size: 14px\; "><span style="margin-top: 0px\; margin-right: 0px\; margin-bottom: 0px\; margin-left: 0px\; padding-top: 0px\; padding-right: 0px\; padding-bottom: 0px\; padding-left: 0px\; font-family: georgia\, serif\; ">Select and install plug-ins</span></span></span></li>\n		<li class="p3" style="margin-top: 0px\; margin-right: 0px\; margin-bottom: 0px\; margin-left: 15px\; padding-top: 0px\; padding-right: 0px\; padding-bottom: 0px\; padding-left: 0px\; list-style-type: disc\; list-style-position: initial\; list-style-image: initial\; ">\n			<span class="Apple-style-span" style="color: rgb(63\, 77\, 82)\; "><span style="margin-top: 0px\; margin-right: 0px\; margin-bottom: 0px\; margin-left: 0px\; padding-top: 0px\; padding-right: 0px\; padding-bottom: 0px\; padding-left: 0px\; font-size: 14px\; "><span style="margin-top: 0px\; margin-right: 0px\; margin-bottom: 0px\; margin-left: 0px\; padding-top: 0px\; padding-right: 0px\; padding-bottom: 0px\; padding-left: 0px\; font-family: georgia\, serif\; ">Add pages \, navigation menus\, contact forms and more to your site</span></span></span></li>\n		<li class="p3" style="margin-top: 0px\; margin-right: 0px\; margin-bottom: 0px\; margin-left: 15px\; padding-top: 0px\; padding-right: 0px\; padding-bottom: 0px\; padding-left: 0px\; list-style-type: disc\; list-style-position: initial\; list-style-image: initial\; ">\n			<span class="Apple-style-span" style="color: rgb(63\, 77\, 82)\; "><span style="margin-top: 0px\; margin-right: 0px\; margin-bottom: 0px\; margin-left: 0px\; padding-top: 0px\; padding-right: 0px\; padding-bottom: 0px\; padding-left: 0px\; font-size: 14px\; "><span style="margin-top: 0px\; margin-right: 0px\; margin-bottom: 0px\; margin-left: 0px\; padding-top: 0px\; padding-right: 0px\; padding-bottom: 0px\; padding-left: 0px\; font-family: georgia\, serif\; ">Set up Google Analytics to collect traffic statistics</span></span></span></li>\n	</ul>\n	<p class="p4" style="font-family: Helvetica\, Arial\, sans-serif\; font-size: 13px\; margin-top: 0px\; margin-right: 0px\; margin-bottom: 0px\; margin-left: 0px\; padding-top: 0px\; padding-right: 0px\; padding-bottom: 0px\; padding-left: 0px\; line-height: 15px\; font: normal normal normal 10px/normal Georgia\; color: rgb(66\, 66\, 66)\; min-height: 11px\; ">\n		<span class="Apple-style-span" style="color: rgb(63\, 77\, 82)\; ">&nbsp\;</span></p>\n	<p class="p5" style="font-family: Helvetica\, Arial\, sans-serif\; font-size: 13px\; margin-top: 0px\; margin-right: 0px\; margin-bottom: 0px\; margin-left: 0px\; padding-top: 0px\; padding-right: 0px\; padding-bottom: 0px\; padding-left: 0px\; line-height: 15px\; font: normal normal normal 10px/normal Georgia\; color: rgb(66\, 66\, 66)\; ">\n		<span class="Apple-style-span" style="color: rgb(63\, 77\, 82)\; "><span style="margin-top: 0px\; margin-right: 0px\; margin-bottom: 0px\; margin-left: 0px\; padding-top: 0px\; padding-right: 0px\; padding-bottom: 0px\; padding-left: 0px\; font-size: 14px\; "><span style="margin-top: 0px\; margin-right: 0px\; margin-bottom: 0px\; margin-left: 0px\; padding-top: 0px\; padding-right: 0px\; padding-bottom: 0px\; padding-left: 0px\; font-family: georgia\, serif\; ">Our goal is that you leave with:</span></span></span></p>\n	<ul style="font-family: Helvetica\, Arial\, sans-serif\; font-size: 13px\; margin-top: 0px\; margin-right: 0px\; margin-bottom: 0px\; margin-left: 0px\; padding-top: 0px\; padding-right: 0px\; padding-bottom: 0px\; padding-left: 0px\; ">\n		<li class="p3" style="margin-top: 0px\; margin-right: 0px\; margin-bottom: 0px\; margin-left: 15px\; padding-top: 0px\; padding-right: 0px\; padding-bottom: 0px\; padding-left: 0px\; list-style-type: disc\; list-style-position: initial\; list-style-image: initial\; ">\n			<span class="Apple-style-span" style="color: rgb(63\, 77\, 82)\; "><span style="margin-top: 0px\; margin-right: 0px\; margin-bottom: 0px\; margin-left: 0px\; padding-top: 0px\; padding-right: 0px\; padding-bottom: 0px\; padding-left: 0px\; font-size: 14px\; "><span style="margin-top: 0px\; margin-right: 0px\; margin-bottom: 0px\; margin-left: 0px\; padding-top: 0px\; padding-right: 0px\; padding-bottom: 0px\; padding-left: 0px\; font-family: georgia\, serif\; ">A brand new website you can update yourself</span></span></span></li>\n		<li class="p3" style="margin-top: 0px\; margin-right: 0px\; margin-bottom: 0px\; margin-left: 15px\; padding-top: 0px\; padding-right: 0px\; padding-bottom: 0px\; padding-left: 0px\; list-style-type: disc\; list-style-position: initial\; list-style-image: initial\; ">\n			<span class="Apple-style-span" style="color: rgb(63\, 77\, 82)\; "><span style="margin-top: 0px\; margin-right: 0px\; margin-bottom: 0px\; margin-left: 0px\; padding-top: 0px\; padding-right: 0px\; padding-bottom: 0px\; padding-left: 0px\; font-size: 14px\; "><span style="margin-top: 0px\; margin-right: 0px\; margin-bottom: 0px\; margin-left: 0px\; padding-top: 0px\; padding-right: 0px\; padding-bottom: 0px\; padding-left: 0px\; font-family: georgia\, serif\; ">Dozens of tips and tricks about using WordPress</span></span></span></li>\n		<li class="p3" style="margin-top: 0px\; margin-right: 0px\; margin-bottom: 0px\; margin-left: 15px\; padding-top: 0px\; padding-right: 0px\; padding-bottom: 0px\; padding-left: 0px\; list-style-type: disc\; list-style-position: initial\; list-style-image: initial\; ">\n			<span class="Apple-style-span" style="color: rgb(63\, 77\, 82)\; "><span style="margin-top: 0px\; margin-right: 0px\; margin-bottom: 0px\; margin-left: 0px\; padding-top: 0px\; padding-right: 0px\; padding-bottom: 0px\; padding-left: 0px\; font-size: 14px\; "><span style="margin-top: 0px\; margin-right: 0px\; margin-bottom: 0px\; margin-left: 0px\; padding-top: 0px\; padding-right: 0px\; padding-bottom: 0px\; padding-left: 0px\; font-family: georgia\, serif\; ">Additional training videos for WordPress support</span></span></span></li>\n		<li class="p3" style="margin-top: 0px\; margin-right: 0px\; margin-bottom: 0px\; margin-left: 15px\; padding-top: 0px\; padding-right: 0px\; padding-bottom: 0px\; padding-left: 0px\; list-style-type: disc\; list-style-position: initial\; list-style-image: initial\; ">\n			<span class="Apple-style-span" style="color: rgb(63\, 77\, 82)\; "><span style="margin-top: 0px\; margin-right: 0px\; margin-bottom: 0px\; margin-left: 0px\; padding-top: 0px\; padding-right: 0px\; padding-bottom: 0px\; padding-left: 0px\; font-size: 14px\; "><span style="margin-top: 0px\; margin-right: 0px\; margin-bottom: 0px\; margin-left: 0px\; padding-top: 0px\; padding-right: 0px\; padding-bottom: 0px\; padding-left: 0px\; font-family: georgia\, serif\; ">Better understanding of what websites need to be successful</span></span></span></li>\n	</ul>\n	<p class="p1" style="font-family: Helvetica\, Arial\, sans-serif\; font-size: 13px\; margin-top: 12px\; margin-right: 0px\; margin-bottom: 12px\; margin-left: 0px\; padding-top: 0px\; padding-right: 0px\; padding-bottom: 0px\; padding-left: 0px\; line-height: 15px\; font: normal normal normal 10px/normal Georgia\; color: rgb(66\, 66\, 66)\; ">\n		<span class="Apple-style-span" style="color: rgb(63\, 77\, 82)\; "><span style="margin-top: 0px\; margin-right: 0px\; margin-bottom: 0px\; margin-left: 0px\; padding-top: 0px\; padding-right: 0px\; padding-bottom: 0px\; padding-left: 0px\; font-size: 14px\; "><span style="margin-top: 0px\; margin-right: 0px\; margin-bottom: 0px\; margin-left: 0px\; padding-top: 0px\; padding-right: 0px\; padding-bottom: 0px\; padding-left: 0px\; font-family: georgia\, serif\; ">Forget about&nbsp\;the seminars with 50 people in the room&nbsp\;fighting over power outlets. This workshop will be kept small to give individualized attention to each person!&nbsp\;</span></span></span></p>\n	<p class="p1" style="font-family: Helvetica\, Arial\, sans-serif\; font-size: 13px\; margin-top: 12px\; margin-right: 0px\; margin-bottom: 12px\; margin-left: 0px\; padding-top: 0px\; padding-right: 0px\; padding-bottom: 0px\; padding-left: 0px\; line-height: 15px\; font: normal normal normal 10px/normal Georgia\; color: rgb(66\, 66\, 66)\; ">\n		<span class="Apple-style-span" style="color: rgb(63\, 77\, 82)\; "><span style="margin-top: 0px\; margin-right: 0px\; margin-bottom: 0px\; margin-left: 0px\; padding-top: 0px\; padding-right: 0px\; padding-bottom: 0px\; padding-left: 0px\; font-size: 14px\; "><span style="margin-top: 0px\; margin-right: 0px\; margin-bottom: 0px\; margin-left: 0px\; padding-top: 0px\; padding-right: 0px\; padding-bottom: 0px\; padding-left: 0px\; font-family: georgia\, serif\; "><b style="margin-top: 0px\; margin-right: 0px\; margin-bottom: 0px\; margin-left: 0px\; padding-top: 0px\; padding-right: 0px\; padding-bottom: 0px\; padding-left: 0px\; ">Sign up now--space is limited!</b></span></span></span></p>\n	<p style="font-family: Helvetica\, Arial\, sans-serif\; font-size: 13px\; margin-top: 0px\; margin-right: 0px\; margin-bottom: 21px\; margin-left: 0px\; padding-top: 0px\; padding-right: 0px\; padding-bottom: 0px\; padding-left: 0px\; ">\n		&nbsp\;</p>\n</div>\n
LOCATION:Inc@8000 8000 Walton Parkway Suite 200 New Albany\, OH 43054
UID:e.304.804
SEQUENCE:3
DTSTAMP:20260420T101224Z
URL:https://cm.newalbanychamber.com/events/details/build-a-website-over-breakfast-05-25-2011-804
END:VEVENT

END:VCALENDAR
