BEGIN:VCALENDAR
VERSION:2.0
PRODID:-//ChamberMaster//Event Calendar 2.0//EN
METHOD:PUBLISH
X-PUBLISHED-TTL:P3D
REFRESH-INTERVAL:P3D
CALSCALE:GREGORIAN
BEGIN:VEVENT
DTSTART:20090318T120000Z
DTEND:20090318T130000Z
X-MICROSOFT-CDO-ALLDAYEVENT:FALSE
SUMMARY:Business Advisory Program
DESCRIPTION:Business Advisor Program-"How to Build your Business"A professional business coach will teach you quick strategies to help grow your business and allow time for personalized questions.RSVP's are required as space is limited to 6 participants.
X-ALT-DESC;FMTTYPE=text/html:<div>Business Advisor Program-&quot\;How to Build your Business&quot\;</div><div>A professional business coach will teach you quick strategies to help grow your business and allow time for personalized questions.</div><div>RSVP's are required as space is limited to 6 participants.</div>
LOCATION:Chamber Office220 Market Street\, Suite 204New Albany
UID:e.304.422
SEQUENCE:3
DTSTAMP:20260422T022215Z
URL:https://cm.newalbanychamber.com/events/details/business-advisory-program-03-18-2009-422
END:VEVENT

END:VCALENDAR
