BEGIN:VCALENDAR
VERSION:2.0
PRODID:-//ChamberMaster//Event Calendar 2.0//EN
METHOD:PUBLISH
X-PUBLISHED-TTL:P3D
REFRESH-INTERVAL:P3D
CALSCALE:GREGORIAN
BEGIN:VEVENT
DTSTART:20250623T210000Z
DTEND:20250623T223000Z
X-MICROSOFT-CDO-ALLDAYEVENT:FALSE
SUMMARY:Business After Hours at BrewDog New Albany
DESCRIPTION:Join the New Albany Chamber of Commerce for a Business After Hours networking event at BrewDog New Albany on Monday\, June 23\, from 5:00 PM to 6:30 PM. This is a fantastic opportunity to connect with local professionals in a relaxed and friendly atmosphere.\n\n\n\nFREE PROFESSIONAL HEADSHOTS\n\nEnjoy complementary light bites and take advantage of complementary headshots offered by Yarrington Studios. Limited spaces available. Register now to reserve your time slot. Don't miss out on this chance to expand your network\, enjoy great food\, and update your professional image!\n\n\n\nBREWDOG NEW ALBANY\n\nBrewDog Albany is a 8\,600 square foot bar with 24 taps pouring our favorite local craft beer from ourselves\, other Ohio breweries\, and top brewers from across the world. Beer fans will be able to soak up some rays on our outdoor terrace or cozy up for an evening by our firepits. Those looking for a more interactive craft beer experience can check out our beer school zone or super-sized games.\n\n\n\nBUSINESS AFTER HOURS\n\nHosting a Business After Hours is an excellent way to showcase your facilities\, products and/or services to the New Albany area business community. This is a wonderful opportunity for new businesses to get exposure in the community and for newly remodeled or expanded businesses to unveil updates and highlight changes. Hosting a Chamber Business After Hours sends a clear message that you are engaged and invested in the community.\n\n\n\nContact Emily if you are interested in hosting or sponsoring\, a Business After Hours event.
X-ALT-DESC;FMTTYPE=text/html:<p>Join the New Albany Chamber of Commerce for a Business After Hours networking event at BrewDog New Albany on Monday\, June 23\, from 5:00 PM to 6:30 PM. This is a fantastic opportunity to connect with local professionals in a relaxed and friendly atmosphere.<br />\n<br />\n<strong>FREE PROFESSIONAL HEADSHOTS</strong><br />\nEnjoy complementary light bites&nbsp\;and take advantage of complementary headshots offered by&nbsp\;<a href="https://www.toddyarrington.com/" target="_blank">Yarrington Studios</a>. Limited spaces&nbsp\;available. Register now to reserve your time slot. Don&rsquo\;t miss out on this chance to expand your network\, enjoy great food\, and update your professional image!<br />\n<br />\n<a href="https://drink.brewdog.com/usa/new-albany" target="_blank"><strong>BREWDOG NEW ALBANY</strong></a><br />\nBrewDog Albany is a 8\,600 square foot bar with 24 taps pouring our favorite local craft beer from ourselves\, other Ohio breweries\, and top brewers from across the world. Beer fans will be able to soak up some rays on our outdoor terrace or cozy up for an evening by our firepits. Those looking for a more interactive craft beer experience can check out our beer school zone or super-sized games.<br />\n<br />\n<strong>BUSINESS AFTER HOURS</strong><br />\nHosting a Business After Hours is an excellent way to showcase your facilities\, products and/or services to the New Albany area business community. This is a wonderful opportunity for new businesses to get exposure in the community and for newly remodeled or expanded businesses to unveil updates and highlight changes. Hosting a Chamber Business After Hours sends a clear message that you are engaged and invested in the community.<br />\n<br />\nContact&nbsp\;<a href="mailto:emily@newalbanychamber.com?subject=Business%20After%20Hours">Emily</a>&nbsp\;if you are interested in hosting or&nbsp\;<a href="https://www.newalbanychamber.com/sponsorship-opportunities/">sponsoring</a>\, a&nbsp\;Business After Hours event.<br />\n&nbsp\;</p>\n
LOCATION:BrewDog New Albany
UID:e.304.20032
SEQUENCE:3
DTSTAMP:20260421T114456Z
URL:https://cm.newalbanychamber.com/events/details/business-after-hours-at-brewdog-new-albany-06-23-2025-20032
END:VEVENT

END:VCALENDAR
