BEGIN:VCALENDAR
VERSION:2.0
PRODID:-//ChamberMaster//Event Calendar 2.0//EN
METHOD:PUBLISH
X-PUBLISHED-TTL:P3D
REFRESH-INTERVAL:P3D
CALSCALE:GREGORIAN
BEGIN:VEVENT
DTSTART:20100318T203000Z
DTEND:20100318T223000Z
X-MICROSOFT-CDO-ALLDAYEVENT:FALSE
SUMMARY:Business After Hours - PowerCo Credit Union
DESCRIPTION:Business After Hours\n\nSponsored by PowerCo Credit Union\n\n5665 N. Hamilton Rd.\n\nColumbus\, OH
X-ALT-DESC;FMTTYPE=text/html:<div><span style="font-size: x-small"><strong>Business After Hours</strong></span></div>\n\n<div><span style="font-size: x-small"><strong>Sponsored by PowerCo Credit Union</strong></span></div>\n\n<div>5665 N. Hamilton Rd.</div>\n\n<div>Columbus\, OH</div>\n
LOCATION:5665 N. Hamilton Rd. Columbus\, Ohio 43230
UID:e.304.557
SEQUENCE:3
DTSTAMP:20260421T085449Z
URL:https://cm.newalbanychamber.com/events/details/business-after-hours-powerco-credit-union-557
END:VEVENT

END:VCALENDAR
